BEGIN:VCALENDAR
VERSION:2.0
PRODID:-//DFWMAS - ECPv6.3.4//NONSGML v1.0//EN
CALSCALE:GREGORIAN
METHOD:PUBLISH
X-WR-CALNAME:DFWMAS
X-ORIGINAL-URL:https://dfwmas.org
X-WR-CALDESC:Events for DFWMAS
REFRESH-INTERVAL;VALUE=DURATION:PT1H
X-Robots-Tag:noindex
X-PUBLISHED-TTL:PT1H
BEGIN:VTIMEZONE
TZID:America/Chicago
BEGIN:DAYLIGHT
TZOFFSETFROM:-0600
TZOFFSETTO:-0500
TZNAME:CDT
DTSTART:20230312T080000
END:DAYLIGHT
BEGIN:STANDARD
TZOFFSETFROM:-0500
TZOFFSETTO:-0600
TZNAME:CST
DTSTART:20231105T070000
END:STANDARD
BEGIN:DAYLIGHT
TZOFFSETFROM:-0600
TZOFFSETTO:-0500
TZNAME:CDT
DTSTART:20240310T080000
END:DAYLIGHT
BEGIN:STANDARD
TZOFFSETFROM:-0500
TZOFFSETTO:-0600
TZNAME:CST
DTSTART:20241103T070000
END:STANDARD
END:VTIMEZONE
BEGIN:VEVENT
DTSTART;VALUE=DATE:20231126
DTEND;VALUE=DATE:20231203
DTSTAMP:20260421T052309
CREATED:20221216T225103Z
LAST-MODIFIED:20221216T225103Z
UID:359014-1700956800-1701561599@dfwmas.org
SUMMARY:Santa Monica Filtration 'Sponsor of the Week'
DESCRIPTION:Nov 26-Dec 2 Santa Monica Filtration ‘Sponsor of the Week’
URL:https://dfwmas.org/calendar/santa-monica-filtration-sponsor-of-the-week-2/
ATTACH;FMTTYPE=image/jpeg:https://dfwmas.org/wp-content/uploads/2022/02/SMF-logo-black-on-white.jpg
END:VEVENT
BEGIN:VEVENT
DTSTART;VALUE=DATE:20231203
DTEND;VALUE=DATE:20231210
DTSTAMP:20260421T052309
CREATED:20221216T225200Z
LAST-MODIFIED:20221216T225200Z
UID:359016-1701561600-1702166399@dfwmas.org
SUMMARY:Seachem 'Sponsor of the Week'
DESCRIPTION:Dec 3-9 Seachem ‘Sponsor of the Week’
URL:https://dfwmas.org/calendar/seachem-sponsor-of-the-week-2/
ATTACH;FMTTYPE=image/jpeg:https://dfwmas.org/wp-content/uploads/2022/02/Seachem.jpg
END:VEVENT
BEGIN:VEVENT
DTSTART;VALUE=DATE:20231210
DTEND;VALUE=DATE:20231217
DTSTAMP:20260421T052309
CREATED:20221216T225302Z
LAST-MODIFIED:20221216T225302Z
UID:359018-1702166400-1702771199@dfwmas.org
SUMMARY:SBB Corals 'Sponsor of the Week'
DESCRIPTION:Dec 10-16 SBB Corals ‘Sponsor of the Week’
URL:https://dfwmas.org/calendar/sbb-corals-sponsor-of-the-week/
ATTACH;FMTTYPE=image/png:https://dfwmas.org/wp-content/uploads/2022/03/SBB-Corals.png
END:VEVENT
BEGIN:VEVENT
DTSTART;TZID=America/Chicago:20231211T190000
DTEND;TZID=America/Chicago:20231211T200000
DTSTAMP:20260421T052309
CREATED:20231024T143827Z
LAST-MODIFIED:20231024T144314Z
UID:359276-1702321200-1702324800@dfwmas.org
SUMMARY:Club Mtg featuring Mack of Mack's Dino Support Group
DESCRIPTION:This meeting is going to be held via zoom\, so come via your phone\, tablet or computer. Don’t let distance keep you away – either DFW metroplex size or COVID concerns – this Monday December 11th offering is just what you need before diving into the end-of-year holidays! \nMore info: \nDec 11 Club Mtg featuring Mack of Mack’s Dino Support Group (public thread) | DFWMAS
URL:https://dfwmas.org/calendar/club-mtg-featuring-mack-of-macks-dino-support-group/
ATTACH;FMTTYPE=image/jpeg:https://dfwmas.org/wp-content/uploads/2023/10/Macks-Reef-Dino-Support-Group.jpg
END:VEVENT
BEGIN:VEVENT
DTSTART;VALUE=DATE:20231217
DTEND;VALUE=DATE:20231224
DTSTAMP:20260421T052309
CREATED:20221216T225356Z
LAST-MODIFIED:20221216T225356Z
UID:359020-1702771200-1703375999@dfwmas.org
SUMMARY:SICCE 'Sponsor of the Week'
DESCRIPTION:Dec 17-23 SICCE ‘Sponsor of the Week’
URL:https://dfwmas.org/calendar/sicce-sponsor-of-the-week-2/
ATTACH;FMTTYPE=image/jpeg:https://dfwmas.org/wp-content/uploads/2022/03/sicce.jpg
END:VEVENT
BEGIN:VEVENT
DTSTART;VALUE=DATE:20231224
DTEND;VALUE=DATE:20231231
DTSTAMP:20260421T052309
CREATED:20221216T225526Z
LAST-MODIFIED:20221216T230140Z
UID:359022-1703376000-1703980799@dfwmas.org
SUMMARY:Willows Reef 'Sponsor of the Week'
DESCRIPTION:Dec 24-30 Willows Reef ‘Sponsor of the Week’
URL:https://dfwmas.org/calendar/willows-reef/
ATTACH;FMTTYPE=image/jpeg:https://dfwmas.org/wp-content/uploads/2022/12/Willows-Reef-with-Products.jpg
END:VEVENT
BEGIN:VEVENT
DTSTART;VALUE=DATE:20231231
DTEND;VALUE=DATE:20240108
DTSTAMP:20260421T052309
CREATED:20221217T185435Z
LAST-MODIFIED:20240107T155611Z
UID:359029-1703980800-1704671999@dfwmas.org
SUMMARY:NOO-PSYCHE 'Sponsor of the Week'
DESCRIPTION:Dec 30-Jan 7 2024 NOO-PSYCHE ‘Sponsor of the Week’
URL:https://dfwmas.org/calendar/noo-psyche-sponsor-of-the-week/
ATTACH;FMTTYPE=image/png:https://dfwmas.org/wp-content/uploads/2022/12/Noo-Psyche-logo.png
END:VEVENT
END:VCALENDAR