BEGIN:VCALENDAR
VERSION:2.0
PRODID:-//DFWMAS - ECPv6.3.4//NONSGML v1.0//EN
CALSCALE:GREGORIAN
METHOD:PUBLISH
X-WR-CALNAME:DFWMAS
X-ORIGINAL-URL:https://dfwmas.org
X-WR-CALDESC:Events for DFWMAS
REFRESH-INTERVAL;VALUE=DURATION:PT1H
X-Robots-Tag:noindex
X-PUBLISHED-TTL:PT1H
BEGIN:VTIMEZONE
TZID:America/Chicago
BEGIN:DAYLIGHT
TZOFFSETFROM:-0600
TZOFFSETTO:-0500
TZNAME:CDT
DTSTART:20230312T080000
END:DAYLIGHT
BEGIN:STANDARD
TZOFFSETFROM:-0500
TZOFFSETTO:-0600
TZNAME:CST
DTSTART:20231105T070000
END:STANDARD
END:VTIMEZONE
BEGIN:VEVENT
DTSTART;VALUE=DATE:20231001
DTEND;VALUE=DATE:20231008
DTSTAMP:20260421T052309
CREATED:20221216T224215Z
LAST-MODIFIED:20221216T224215Z
UID:358997-1696118400-1696723199@dfwmas.org
SUMMARY:Printed Reef 'Sponsor of the Week'
DESCRIPTION:Oct 1-7 Printed Reef ‘Sponsor of the Week’
URL:https://dfwmas.org/calendar/printed-reef-sponsor-of-the-week/
ATTACH;FMTTYPE=image/png:https://dfwmas.org/wp-content/uploads/2022/07/Printed-Reef.png
END:VEVENT
BEGIN:VEVENT
DTSTART;VALUE=DATE:20231007
DTEND;VALUE=DATE:20231009
DTSTAMP:20260421T052309
CREATED:20230110T211515Z
LAST-MODIFIED:20230110T211639Z
UID:359051-1696636800-1696809599@dfwmas.org
SUMMARY:Reef-A-Palooza RAP Texas
DESCRIPTION:Reef-A-Palooza Texas \nOctober 7 & 8\, 2023 \nEmbassy Suites by Hilton Dallas-Frisco \nhttps://reefapaloozashow.net/pages/texas
URL:https://dfwmas.org/calendar/rap-reef-a-palooza/
ATTACH;FMTTYPE=image/png:https://dfwmas.org/wp-content/uploads/2021/12/RAP-logo.png
END:VEVENT
BEGIN:VEVENT
DTSTART;VALUE=DATE:20231008
DTEND;VALUE=DATE:20231015
DTSTAMP:20260421T052309
CREATED:20221216T224320Z
LAST-MODIFIED:20221216T224320Z
UID:358999-1696723200-1697327999@dfwmas.org
SUMMARY:Raising Reefs 'Sponsor of the Week'
DESCRIPTION:Oct 8-14 Raising Reefs ‘Sponsor of the Week’
URL:https://dfwmas.org/calendar/raising-reefs-sponsor-of-the-week/
ATTACH;FMTTYPE=image/png:https://dfwmas.org/wp-content/uploads/2022/03/Raising-Reefs-logo.png
END:VEVENT
BEGIN:VEVENT
DTSTART;VALUE=DATE:20231015
DTEND;VALUE=DATE:20231022
DTSTAMP:20260421T052309
CREATED:20221216T224425Z
LAST-MODIFIED:20221216T224425Z
UID:359001-1697328000-1697932799@dfwmas.org
SUMMARY:Red Sea 'Sponsor of the Week'
DESCRIPTION:Oct 15-21 Red Sea ‘Sponsor of the Week’
URL:https://dfwmas.org/calendar/red-sea-sponsor-of-the-week-2/
ATTACH;FMTTYPE=image/jpeg:https://dfwmas.org/wp-content/uploads/2021/11/Red-Sea-Logo-with-website-on-white.jpg
END:VEVENT
BEGIN:VEVENT
DTSTART;VALUE=DATE:20231022
DTEND;VALUE=DATE:20231029
DTSTAMP:20260421T052309
CREATED:20221216T224525Z
LAST-MODIFIED:20221216T224525Z
UID:359003-1697932800-1698537599@dfwmas.org
SUMMARY:Reef Breeders 'Sponsor of the Week'
DESCRIPTION:Oct 22-28 Reef Breeders ‘Sponsor of the Week’
URL:https://dfwmas.org/calendar/reef-breeders-sponsor-of-the-week/
ATTACH;FMTTYPE=image/png:https://dfwmas.org/wp-content/uploads/2022/01/Reef-Breeders-logo-K.png
END:VEVENT
BEGIN:VEVENT
DTSTART;VALUE=DATE:20231029
DTEND;VALUE=DATE:20231105
DTSTAMP:20260421T052309
CREATED:20221216T224643Z
LAST-MODIFIED:20221216T224643Z
UID:359005-1698537600-1699142399@dfwmas.org
SUMMARY:Reef Diaper 'Sponsor of the Week'
DESCRIPTION:Oct 29-Nov 4 Reef Diaper ‘Sponsor of the Week’
URL:https://dfwmas.org/calendar/reef-diaper-sponsor-of-the-week/
ATTACH;FMTTYPE=image/png:https://dfwmas.org/wp-content/uploads/2022/12/reef-diaper-logo-min-600x112-1.png
END:VEVENT
END:VCALENDAR