BEGIN:VCALENDAR
VERSION:2.0
PRODID:-//DFWMAS - ECPv6.3.4//NONSGML v1.0//EN
CALSCALE:GREGORIAN
METHOD:PUBLISH
X-ORIGINAL-URL:https://dfwmas.org
X-WR-CALDESC:Events for DFWMAS
REFRESH-INTERVAL;VALUE=DURATION:PT1H
X-Robots-Tag:noindex
X-PUBLISHED-TTL:PT1H
BEGIN:VTIMEZONE
TZID:America/Chicago
BEGIN:DAYLIGHT
TZOFFSETFROM:-0600
TZOFFSETTO:-0500
TZNAME:CDT
DTSTART:20230312T080000
END:DAYLIGHT
BEGIN:STANDARD
TZOFFSETFROM:-0500
TZOFFSETTO:-0600
TZNAME:CST
DTSTART:20231105T070000
END:STANDARD
END:VTIMEZONE
BEGIN:VEVENT
DTSTART;VALUE=DATE:20230129
DTEND;VALUE=DATE:20230205
DTSTAMP:20260422T053233
CREATED:20221216T220341Z
LAST-MODIFIED:20230122T014207Z
UID:358932-1674950400-1675555199@dfwmas.org
SUMMARY:Ultimate Coral  'Sponsor of the Week'
DESCRIPTION:Ultimate Coral ‘Sponsor of the Week’
URL:https://dfwmas.org/calendar/ultimate-coral-sponsor-of-the-week/
ATTACH;FMTTYPE=image/png:https://dfwmas.org/wp-content/uploads/2016/12/ultimate-Corals400x200.png
END:VEVENT
BEGIN:VEVENT
DTSTART;VALUE=DATE:20230205
DTEND;VALUE=DATE:20230212
DTSTAMP:20260422T053233
CREATED:20221216T220007Z
LAST-MODIFIED:20221216T220007Z
UID:358925-1675555200-1676159999@dfwmas.org
SUMMARY:Dinkins Aquatic Gardens 'Sponsor of the Week'
DESCRIPTION:Feb 5-11 Dinkins Aquatic Gardens ‘Sponsor of the Week’
URL:https://dfwmas.org/calendar/dinkins-aquatic-gardens-sponsor-of-the-week/
ATTACH;FMTTYPE=image/jpeg:https://dfwmas.org/wp-content/uploads/2022/12/Dinkins-logo.jpg
END:VEVENT
BEGIN:VEVENT
DTSTART;VALUE=DATE:20230212
DTEND;VALUE=DATE:20230219
DTSTAMP:20260422T053233
CREATED:20221216T220106Z
LAST-MODIFIED:20221216T220106Z
UID:358928-1676160000-1676764799@dfwmas.org
SUMMARY:Frank's Tanks 'Sponsor of the Week'
DESCRIPTION:Feb 12-18 Frank’s Tanks ‘Sponsor of the Week’
URL:https://dfwmas.org/calendar/franks-tanks-sponsor-of-the-week-3/
ATTACH;FMTTYPE=image/png:https://dfwmas.org/wp-content/uploads/2016/12/FrankThanks400x200.png
END:VEVENT
BEGIN:VEVENT
DTSTART;TZID=America/Chicago:20230218T120000
DTEND;TZID=America/Chicago:20230218T130000
DTSTAMP:20260422T053233
CREATED:20230115T202220Z
LAST-MODIFIED:20230115T202220Z
UID:359076-1676721600-1676725200@dfwmas.org
SUMMARY:Club Gathering & Raffle - Rift2Reef
DESCRIPTION:February 18 Club Gathering – Rift2Reef LFS \nOur February club ‘Saturday Gathering’ will be Feb 18th. ‘Gatherings’ are different days than ‘Meetings’ based on 2022 feedback. \n\nClub ‘Saturday Gathering’\nSaturday February 18\nNoon until 1pm\nRift2Reef LFS\n2250 Justin Rd #116\, Highland Village\, TX 75077\n\nFREE RAFFLE at 1pm featuring donations of Piscene Energetics Marine PE Pellets and MORE! \nMore details are in Forum. Refer Forum.
URL:https://dfwmas.org/calendar/club-gathering-raffle-rift2reef/
ATTACH;FMTTYPE=image/jpeg:https://dfwmas.org/wp-content/uploads/2022/03/Rift2Reef-better-logo.jpg
END:VEVENT
BEGIN:VEVENT
DTSTART;VALUE=DATE:20230219
DTEND;VALUE=DATE:20230226
DTSTAMP:20260422T053233
CREATED:20221216T220220Z
LAST-MODIFIED:20221216T220220Z
UID:358930-1676764800-1677369599@dfwmas.org
SUMMARY:Glass Aquatics 'Sponsor of the Week'
DESCRIPTION:Feb 19-25 Glass Aquatics ‘Sponsor of the Week’
URL:https://dfwmas.org/calendar/glass-aquatics-sponsor-of-the-week-3/
ATTACH;FMTTYPE=image/png:https://dfwmas.org/wp-content/uploads/2020/04/Glass-Aquatics-Logo-Watermark-with-Name-Moto.png
END:VEVENT
BEGIN:VEVENT
DTSTART;TZID=America/Chicago:20230223T190000
DTEND;TZID=America/Chicago:20230223T200000
DTSTAMP:20260422T053233
CREATED:20230119T194845Z
LAST-MODIFIED:20230221T220647Z
UID:359083-1677178800-1677182400@dfwmas.org
SUMMARY:Club Mtg - Shawn Hale of Fritz and Aquashella
DESCRIPTION:February Club Meeting \nfeaturing guest speaker Shawn Hale of Fritz Industries and Aquashella \nZOOM ONLY \nMore details\, refer website Forum or follow this link: \nhttps://forum.dfwmas.org/index.php?threads/feb-23-monthly-meeting-featuring-shawn-hale-of-fritz-and-aquashella-public-thread.45475/
URL:https://dfwmas.org/calendar/club-mtg-shawn-hale-of-fritz-and-aquashella/
ATTACH;FMTTYPE=image/jpeg:https://dfwmas.org/wp-content/uploads/2023/02/Shawn-Hale-of-Fritz-and-Aquashella-Feb-Zoom-Mtg-Flyer.jpg
END:VEVENT
BEGIN:VEVENT
DTSTART;VALUE=DATE:20230226
DTEND;VALUE=DATE:20230305
DTSTAMP:20260422T053233
CREATED:20221216T215847Z
LAST-MODIFIED:20230122T014052Z
UID:358922-1677369600-1677974399@dfwmas.org
SUMMARY:Turbo's Aquatics 'Sponsor of the Week'
DESCRIPTION:Turbo’s Aquatics ‘Sponsor of the Week’
URL:https://dfwmas.org/calendar/turbos-aquatics-sponsor-of-the-week/
ATTACH;FMTTYPE=image/png:https://dfwmas.org/wp-content/uploads/2022/12/Turbos-Aquatics-2-Color-Logo-spread-300x118-1.png
END:VEVENT
END:VCALENDAR