BEGIN:VCALENDAR
VERSION:2.0
PRODID:-//DFWMAS - ECPv6.3.4//NONSGML v1.0//EN
CALSCALE:GREGORIAN
METHOD:PUBLISH
X-ORIGINAL-URL:https://dfwmas.org
X-WR-CALDESC:Events for DFWMAS
REFRESH-INTERVAL;VALUE=DURATION:PT1H
X-Robots-Tag:noindex
X-PUBLISHED-TTL:PT1H
BEGIN:VTIMEZONE
TZID:America/Chicago
BEGIN:DAYLIGHT
TZOFFSETFROM:-0600
TZOFFSETTO:-0500
TZNAME:CDT
DTSTART:20220313T080000
END:DAYLIGHT
BEGIN:STANDARD
TZOFFSETFROM:-0500
TZOFFSETTO:-0600
TZNAME:CST
DTSTART:20221106T070000
END:STANDARD
END:VTIMEZONE
BEGIN:VEVENT
DTSTART;VALUE=DATE:20221127
DTEND;VALUE=DATE:20221204
DTSTAMP:20260419T100338
CREATED:20220422T211724Z
LAST-MODIFIED:20220422T211724Z
UID:358626-1669507200-1670111999@dfwmas.org
SUMMARY:Brightwell Aquatics 'Sponsor of the Week'
DESCRIPTION:DFWMAS is proud to announce ‘Sponsor of the Week’ Brightwell Aquatics Nov 27-Dec 3\nCheck out our partner:\nhttps://brightwellaquatics.com/
URL:https://dfwmas.org/calendar/brightwell-aquatics-sponsor-of-the-week/
ATTACH;FMTTYPE=image/png:https://dfwmas.org/wp-content/uploads/2016/12/Brightwell400x200.png
END:VEVENT
BEGIN:VEVENT
DTSTART;VALUE=DATE:20221204
DTEND;VALUE=DATE:20221211
DTSTAMP:20260419T100339
CREATED:20220422T213453Z
LAST-MODIFIED:20220422T213453Z
UID:358628-1670112000-1670716799@dfwmas.org
SUMMARY:JBJ 'Sponsor of the Week'
DESCRIPTION:DFWMAS is proud to announce ‘Sponsor of the Week’ JBJ Dec 4-10\nCheck out our partner: \n\nJBJ Aquarium
URL:https://dfwmas.org/calendar/jbj-sponsor-of-the-week/
ATTACH;FMTTYPE=image/png:https://dfwmas.org/wp-content/uploads/2022/04/jbj_logo@038x.png
END:VEVENT
BEGIN:VEVENT
DTSTART;TZID=America/Chicago:20221210T110000
DTEND;TZID=America/Chicago:20221210T170000
DTSTAMP:20260419T100340
CREATED:20220422T194358Z
LAST-MODIFIED:20221216T193143Z
UID:358619-1670670000-1670691600@dfwmas.org
SUMMARY:Club 'Holiday Pot Luck' Party and Raffle
DESCRIPTION:Have you been naughty or nice this year? Either way\, come out to enjoy good times with other saltwater hobbyists at this family friendly event!\nhttps://forum.dfwmas.org/index.php?threads/holiday-potluck-member-gathering-general-forum-thread-food-signup.45104 \nhttps://forum.dfwmas.org/index.php?threads/2-000-holiday-potluck-giveaway-raffle-open-to-both-free-and-premium-members.45214/ \nRefer Forum for More Info \n  \n  \n 
URL:https://dfwmas.org/calendar/club-holiday-pot-luck-party/
ATTACH;FMTTYPE=image/jpeg:https://dfwmas.org/wp-content/uploads/2022/11/2022-12-Holiday-Potluck-Image.jpg
END:VEVENT
BEGIN:VEVENT
DTSTART;VALUE=DATE:20221211
DTEND;VALUE=DATE:20221218
DTSTAMP:20260419T100340
CREATED:20220422T214912Z
LAST-MODIFIED:20220422T214912Z
UID:358630-1670716800-1671321599@dfwmas.org
SUMMARY:Avast Marine Works 'Sponsor of the Week'
DESCRIPTION:DFWMAS is proud to announce ‘Sponsor of the Week’ Avast Marine Works Dec 11-17\nCheck out our partner:\nhttps://www.avastmarine.com/
URL:https://dfwmas.org/calendar/avast-marine-works-sponsor-of-the-week/
ATTACH;FMTTYPE=image/png:https://dfwmas.org/wp-content/uploads/2022/04/amw_logo_lg_transparent.png
END:VEVENT
BEGIN:VEVENT
DTSTART;VALUE=DATE:20221218
DTEND;VALUE=DATE:20221225
DTSTAMP:20260419T100340
CREATED:20220423T134125Z
LAST-MODIFIED:20220423T134125Z
UID:358633-1671321600-1671926399@dfwmas.org
SUMMARY:Bulk Reef Supply 'Sponsor of the Week'
DESCRIPTION:DFWMAS is proud to announce ‘Sponsor of the Week’ Bulk Reef Supply Dec 18-24\nCheck out our partner:\nhttps://www.bulkreefsupply.com/
URL:https://dfwmas.org/calendar/bulk-reef-supply-sponsor-of-the-week/
ATTACH;FMTTYPE=image/png:https://dfwmas.org/wp-content/uploads/2016/12/BulkReef400x200.png
END:VEVENT
BEGIN:VEVENT
DTSTART;VALUE=DATE:20221225
DTEND;VALUE=DATE:20230101
DTSTAMP:20260419T100341
CREATED:20221216T215156Z
LAST-MODIFIED:20221216T225659Z
UID:358912-1671926400-1672531199@dfwmas.org
SUMMARY:AlgaGen Direct 'Sponsor of the Week'
DESCRIPTION:Dec 25-31 AlgaGen Direct ‘Sponsor of the Week’
URL:https://dfwmas.org/calendar/algagen-direct-sponsor-of-the-week/
ATTACH;FMTTYPE=image/png:https://dfwmas.org/wp-content/uploads/2021/12/algagen-direct-logo-smaller.png
END:VEVENT
END:VCALENDAR