BEGIN:VCALENDAR
VERSION:2.0
PRODID:-//DFWMAS - ECPv6.3.4//NONSGML v1.0//EN
CALSCALE:GREGORIAN
METHOD:PUBLISH
X-ORIGINAL-URL:https://dfwmas.org
X-WR-CALDESC:Events for DFWMAS
REFRESH-INTERVAL;VALUE=DURATION:PT1H
X-Robots-Tag:noindex
X-PUBLISHED-TTL:PT1H
BEGIN:VTIMEZONE
TZID:America/Chicago
BEGIN:DAYLIGHT
TZOFFSETFROM:-0600
TZOFFSETTO:-0500
TZNAME:CDT
DTSTART:20220313T080000
END:DAYLIGHT
BEGIN:STANDARD
TZOFFSETFROM:-0500
TZOFFSETTO:-0600
TZNAME:CST
DTSTART:20221106T070000
END:STANDARD
END:VTIMEZONE
BEGIN:VEVENT
DTSTART;VALUE=DATE:20220529
DTEND;VALUE=DATE:20220605
DTSTAMP:20260421T051918
CREATED:20220317T235622Z
LAST-MODIFIED:20220317T235622Z
UID:358494-1653782400-1654387199@dfwmas.org
SUMMARY:SALGADO AQUATICS 'Sponsor of the Week'
DESCRIPTION:DFWMAS is proud to announce ‘Sponsor of the Week’ May 29-June 4 SALGADO AQUATICS \nCheck out our partner:\nhttps://www.facebook.com/Salgado-Aquatics-361280041028567/\nhttps://www.salgadoaquatics.com/\nhttps://www.dfwmas.org/community/salgado-aquatics/
URL:https://dfwmas.org/calendar/salgado-aquatics-sponsor-of-the-week/
ATTACH;FMTTYPE=image/png:https://dfwmas.org/wp-content/uploads/2021/12/Salgado-Aquatics-logo-transparent-background-from-website.png
END:VEVENT
BEGIN:VEVENT
DTSTART;TZID=America/Chicago:20220604T110000
DTEND;TZID=America/Chicago:20220604T170000
DTSTAMP:20260421T051919
CREATED:20220422T190851Z
LAST-MODIFIED:20220422T190851Z
UID:358607-1654340400-1654362000@dfwmas.org
SUMMARY:Dallas Coral Farmers Market
DESCRIPTION:http://www.coralfarmersmarket.com/cfmprotour_dallas_2022.htm
URL:https://dfwmas.org/calendar/dallas-coral-farmers-market/
ATTACH;FMTTYPE=image/jpeg:https://dfwmas.org/wp-content/uploads/2022/04/2022-06-04-Dallas-Coral-Show.jpg
END:VEVENT
BEGIN:VEVENT
DTSTART;VALUE=DATE:20220605
DTEND;VALUE=DATE:20220612
DTSTAMP:20260421T051920
CREATED:20220318T000946Z
LAST-MODIFIED:20220318T000946Z
UID:358496-1654387200-1654991999@dfwmas.org
SUMMARY:BRS Bulk Reef Supply 'Sponsor of the Week'
DESCRIPTION:DFWMAS is proud to announce ‘Sponsor of the Week’ June 5-11 Bulk Reef Supply \nCheck out our partner:\nhttps://www.bulkreefsupply.com/
URL:https://dfwmas.org/calendar/brs-bulk-reef-supply-sponsor-of-the-week/
ATTACH;FMTTYPE=image/png:https://dfwmas.org/wp-content/uploads/2016/12/BulkReef400x200.png
END:VEVENT
BEGIN:VEVENT
DTSTART;VALUE=DATE:20220612
DTEND;VALUE=DATE:20220619
DTSTAMP:20260421T051920
CREATED:20220318T002840Z
LAST-MODIFIED:20220318T002840Z
UID:358498-1654992000-1655596799@dfwmas.org
SUMMARY:Reef Nutrition 'Sponsor of the Week'
DESCRIPTION:DFWMAS is proud to announce ‘Sponsor of the Week’ June 12-18 Reef Nutrition \nCheck out our partner:\nhttps://reefnutrition.com/
URL:https://dfwmas.org/calendar/reef-nutrition-sponsor-of-the-week/
ATTACH;FMTTYPE=image/png:https://dfwmas.org/wp-content/uploads/2016/12/reef-nutrition400x200.png
END:VEVENT
BEGIN:VEVENT
DTSTART;TZID=America/Chicago:20220618T120000
DTEND;TZID=America/Chicago:20220618T150000
DTSTAMP:20260421T051920
CREATED:20220318T012301Z
LAST-MODIFIED:20220321T213213Z
UID:358508-1655553600-1655564400@dfwmas.org
SUMMARY:DFWMAS Frag Swap
DESCRIPTION:Noon-3pm\n11am Early Bird Entry for DFWMAS Premium members\n4201 Heritage Trace Pkwy\, Fort Worth TX\, 76244 \nSummer Hobby Club DFWMAS Frag Swap\nDallas Fort Worth Marine Aquarium Society \nSaturday June 18th – Father’s Day weekend \nNoon to 3:00 PM – Free Entry\n11 AM Early Bird Free Entry for Premium Members \nHeritage Church of Christ\n4201 Heritage Trace Pkwy\, Fort Worth TX \nRaffles throughout Event \nMore details in www.dfwmas.org Forum. Refer Forum.
URL:https://dfwmas.org/calendar/dfwmas-frag-swap/
ATTACH;FMTTYPE=image/jpeg:https://dfwmas.org/wp-content/uploads/2022/03/June-18-Frag-Swap-Announcement-black-background.jpg
END:VEVENT
BEGIN:VEVENT
DTSTART;VALUE=DATE:20220619
DTEND;VALUE=DATE:20220626
DTSTAMP:20260421T051920
CREATED:20220318T005046Z
LAST-MODIFIED:20220318T005046Z
UID:358503-1655596800-1656201599@dfwmas.org
SUMMARY:Algae Barn 'Sponsor of the Week'
DESCRIPTION:DFWMAS is proud to announce ‘Sponsor of the Week’ June 19-25 Algae Barn \nCheck out our partner: \n\nHome
URL:https://dfwmas.org/calendar/algae-barn-sponsor-of-the-week/
ATTACH;FMTTYPE=image/png:https://dfwmas.org/wp-content/uploads/2022/03/Algae-Barn.png
END:VEVENT
BEGIN:VEVENT
DTSTART;TZID=America/Chicago:20220622T190000
DTEND;TZID=America/Chicago:20220622T200000
DTSTAMP:20260421T051921
CREATED:20220407T201010Z
LAST-MODIFIED:20220407T201046Z
UID:358597-1655924400-1655928000@dfwmas.org
SUMMARY:June Monthly Club Meeting - AlgaeBarn at Odyssey Pets hybrid zoom and in person
DESCRIPTION:June Monthly Mtg Raven Scholtz with Algae Barn on Refugiums\, Macroalgae\, Live Foods and Phyto \nJun 22\, 2022 07:00 PM Central Time (US and Canada) \nHybrid meeting – both ZOOM and IN PERSON at Odyssey Pets 14999 Preston Road #400A Dallas TX 75254 \nin person\, please bring your own chair (and chair for a friend)\nZoom if distance concerns\nCOVID social distancing\nDFW metroplex size & home/work location\nHost attends via Zoom at at LFS Odyssey Pets of Dallas using 80” projection screen with Fender dual-speakers \nJoin Zoom Meeting\nhttps://us06web.zoom.us/j/82743786857?pwd=SVhBeTBDcVkyZHhQVFI4NmZpRTZYdz09 \nMeeting ID: 827 4378 6857\nPasscode: 820440 \nOne tap mobile\n+13462487799\,\,82743786857#\,\,\,\,*820440# US (Houston)\n+17207072699\,\,82743786857#\,\,\,\,*820440# US (Denver) \nDial by your location\n        +1 346 248 7799 US (Houston)\n        +1 720 707 2699 US (Denver)\n        +1 253 215 8782 US (Tacoma)\n        +1 312 626 6799 US (Chicago)\n        +1 646 558 8656 US (New York)\n        +1 301 715 8592 US (Washington DC) \nMeeting ID: 827 4378 6857\nPasscode: 820440 \nFind your local number: https://us06web.zoom.us/u/keJqnctwXZ \nFor calendar invite to add meeting to your personal calendar\, refer Forum.
URL:https://dfwmas.org/calendar/june-monthly-club-meeting-algaebarn-at-odyssey-pets-hybrid-zoom-and-in-person/
ATTACH;FMTTYPE=image/png:https://dfwmas.org/wp-content/uploads/2022/04/2022-06-monthly-meeting-annoucement-flyer.png
END:VEVENT
BEGIN:VEVENT
DTSTART;VALUE=DATE:20220626
DTEND;VALUE=DATE:20220703
DTSTAMP:20260421T051922
CREATED:20220318T010253Z
LAST-MODIFIED:20220630T220150Z
UID:358505-1656201600-1656806399@dfwmas.org
SUMMARY:Reef Breeders 'Sponsor of the Week'
DESCRIPTION:DFWMAS is proud to announce ‘Sponsor of the Week’ June 26-July 2 Reef Breeders \nCheck out our partner:\nreefbreeders.com/ \nhttps://reefbreeders.com/
URL:https://dfwmas.org/calendar/reef-breeders/
ATTACH;FMTTYPE=image/png:https://dfwmas.org/wp-content/uploads/2022/01/Reef-Breeders-logo-K.png
END:VEVENT
END:VCALENDAR