BEGIN:VCALENDAR
VERSION:2.0
PRODID:-//DFWMAS - ECPv6.3.4//NONSGML v1.0//EN
CALSCALE:GREGORIAN
METHOD:PUBLISH
X-ORIGINAL-URL:https://dfwmas.org
X-WR-CALDESC:Events for DFWMAS
REFRESH-INTERVAL;VALUE=DURATION:PT1H
X-Robots-Tag:noindex
X-PUBLISHED-TTL:PT1H
BEGIN:VTIMEZONE
TZID:America/Chicago
BEGIN:DAYLIGHT
TZOFFSETFROM:-0600
TZOFFSETTO:-0500
TZNAME:CDT
DTSTART:20220313T080000
END:DAYLIGHT
BEGIN:STANDARD
TZOFFSETFROM:-0500
TZOFFSETTO:-0600
TZNAME:CST
DTSTART:20221106T070000
END:STANDARD
END:VTIMEZONE
BEGIN:VEVENT
DTSTART;VALUE=DATE:20220227
DTEND;VALUE=DATE:20220306
DTSTAMP:20260421T065158
CREATED:20211114T192049Z
LAST-MODIFIED:20211114T192049Z
UID:358263-1645920000-1646524799@dfwmas.org
SUMMARY:Texas Coral Fest 'Sponsor of the Week'
DESCRIPTION:DFWMAS is proud to announce ‘Sponsor of the Week’ Texas Coral Fest – Feb 27-Mar 5th\nCheck out our partner at:\nhttps://www.facebook.com/groups/357643834436940/
URL:https://dfwmas.org/calendar/texas-coral-fest-sponsor-of-the-week/
ATTACH;FMTTYPE=image/jpeg:https://dfwmas.org/wp-content/uploads/revslider/welcome/home.jpg
END:VEVENT
BEGIN:VEVENT
DTSTART;TZID=America/Chicago:20220301T190000
DTEND;TZID=America/Chicago:20220301T200000
DTSTAMP:20260421T065159
CREATED:20220209T010016Z
LAST-MODIFIED:20220209T010016Z
UID:358416-1646161200-1646164800@dfwmas.org
SUMMARY:+$4\,000 LIVE giveaway using zoom Bounce Back contest
DESCRIPTION:hobby club dfwmas +$4\,000 LIVE GIVEAWAY of Feb Bounce Back items – as of 2/8 there are more than 180 items worth over $4\,000 with more still coming in from different manufacturers and suppliers. Odds are about 1 in 6. Just need to register at dfwmas.org and upgrade to Premium at https://www.dfwmas.org/membership/ … puts in giveaway\, free bus tours\, many other perks!\nMarch 1st\n7-8pm (or however long to draw all winners!)\n\nCalendar invite on www.dfwmas.org Forum\n\n\nJoin Zoom Meeting\n\nhttps://us06web.zoom.us/j/85607155921?pwd=T0FHUU5ubzZQbExCS2t4VnN5aVJBZz09\n\nMeeting ID: 856 0715 5921\nPasscode: 487872\n\nOne tap mobile\n\n+13462487799\,\,85607155921#\,\,\,\,*487872# US (Houston)\n+17207072699\,\,85607155921#\,\,\,\,*487872# US (Denver)\n\nDial by your location\n        +1 346 248 7799 US (Houston)\n        +1 720 707 2699 US (Denver)\n        +1 253 215 8782 US (Tacoma)\n        +1 646 558 8656 US (New York)\n        +1 301 715 8592 US (Washington DC)\n        +1 312 626 6799 US (Chicago)\n\nMeeting ID: 856 0715 5921\nPasscode: 487872\n\nFind your local number: https://us06web.zoom.us/u/kdYlVz89X6
URL:https://dfwmas.org/calendar/4000-live-giveaway-using-zoom-bounce-back-contest/
ATTACH;FMTTYPE=image/jpeg:https://dfwmas.org/wp-content/uploads/2022/01/Clownfish-Ice-Cube-by-BellaV.jpg
END:VEVENT
BEGIN:VEVENT
DTSTART;TZID=America/Chicago:20220305T110000
DTEND;TZID=America/Chicago:20220305T150000
DTSTAMP:20260421T065159
CREATED:20211211T133338Z
LAST-MODIFIED:20211211T133338Z
UID:358302-1646478000-1646492400@dfwmas.org
SUMMARY:Frag Swap
DESCRIPTION:Frag Swap\nBob Duncan Community Center Arlington TX\nSaturday March 5\, 2022\n11am Premium DFWMAS Members Early Bird Entry\nNoon – 3pm Public Entry\n\nSellers: Setup begins 8am / 4:30pm cleanup completion\n\nhttps://www.dfwmas.org/community/events/2022-spring-frag-swap-march-5th-arlington-2/#post-337792
URL:https://dfwmas.org/calendar/frag-swap-2/
ATTACH;FMTTYPE=image/jpeg:https://dfwmas.org/wp-content/uploads/2021/12/March-5-Frag-Swap-DFWMAS-Hobby-Club-Announcement-black-background.jpg
END:VEVENT
BEGIN:VEVENT
DTSTART;VALUE=DATE:20220306
DTEND;VALUE=DATE:20220313
DTSTAMP:20260421T065159
CREATED:20211211T133846Z
LAST-MODIFIED:20220309T094749Z
UID:358305-1646524800-1647129599@dfwmas.org
SUMMARY:School of Fish 'Sponsor of the Week'
DESCRIPTION:DFWMAS is proud to announce ‘Sponsor of the Week’ School of Fish for March 6-12th \nCheck out our partner at: \nhttps://www.facebook.com/schooloffishsales/ \nhttps://schooloffish.net/
URL:https://dfwmas.org/calendar/school-of-fish-sponsor-of-the-week/
ATTACH;FMTTYPE=image/jpeg:https://dfwmas.org/wp-content/uploads/2021/12/School-of-Fish-logo.jpg
END:VEVENT
BEGIN:VEVENT
DTSTART;VALUE=DATE:20220313
DTEND;VALUE=DATE:20220320
DTSTAMP:20260421T065200
CREATED:20220310T005650Z
LAST-MODIFIED:20220310T005650Z
UID:358460-1647129600-1647734399@dfwmas.org
SUMMARY:AlgaGen 'Sponsor of the Week'
DESCRIPTION:DFWMAS is proud to announce ‘Sponsor of the Week’ AlgaGen for March 13-19th \n45% off coupon – coupon code is  DFW45\nStarts Monday\, March 14\, 2022\nLast day of the coupon is Monday\, April 11\, 2022 \nThey made a page for the DFW45 customers here:    https://www.algagendirect.com/dfw45customers.html \nThese are the products that the 45% coupon works on: \nAlgaGenPods™ Apocydops\nAlgaGenPods™ Tisbe\nPhycoPure™ Reef Blend\nPhycoPure™ Zooxanthellae\nPhyto-Plasm™ Combo\nPhyto-Plasm™ Phyto Brown\nPhyto-Plasm™ Phyto Green\nPhyto-Plasm™ Phyto Zooxanthellae\nZoo-Plasm™ Decap’D Brine\nZoo-Plasm™ PODS\nZoo-Plasm™ Rotifers \nCheck out our partner at:\nhttps://www.algagendirect.com
URL:https://dfwmas.org/calendar/algagen-sponsor-of-the-week/
ATTACH;FMTTYPE=image/png:https://dfwmas.org/wp-content/uploads/2021/12/algagen-direct-logo-smaller.png
END:VEVENT
BEGIN:VEVENT
DTSTART;TZID=America/Chicago:20220313T110000
DTEND;TZID=America/Chicago:20220313T170000
DTSTAMP:20260421T065201
CREATED:20220309T094609Z
LAST-MODIFIED:20220309T094609Z
UID:358454-1647169200-1647190800@dfwmas.org
SUMMARY:Ft Worth Coral Farmers Market
DESCRIPTION:Coral Farmers Market company operating their second annual Fort Worth Coral Show on Sunday March 13th 2022. This coral show event open to public between 11am to 5pm on Sunday March 13th. More info:\nhttp://www.coralfarmersmarket.com/cfmprotour_fortworth_2022.htm\nWhile supplies last\, local hobby club will hand out current Reef Hobbyist Magazines! FREE!! Drop by corner booth Dallas Fort Worth Marine Aquarium Society (DFWMAS) and also get FREE STICKER!
URL:https://dfwmas.org/calendar/ft-worth-coral-farmers-market/
ATTACH;FMTTYPE=image/jpeg:https://dfwmas.org/wp-content/uploads/2022/03/2022-03-13-Fort-Worth-Coral-Show-Sunday-update.jpg
END:VEVENT
BEGIN:VEVENT
DTSTART;TZID=America/Chicago:20220314T080000
DTEND;TZID=America/Chicago:20220411T170000
DTSTAMP:20260421T065201
CREATED:20220310T005921Z
LAST-MODIFIED:20220310T005940Z
UID:358462-1647244800-1649696400@dfwmas.org
SUMMARY:45% OFF DFWMAS Club Special by AlgaGen sponsor
DESCRIPTION:45% off coupon – coupon code is  DFW45\nStarts Monday\, March 14\, 2022\nLast day of the coupon is Monday\, April 11\, 2022 \nThey made a page for the DFW45 customers here:    https://www.algagendirect.com/dfw45customers.html \nThese are the products that the 45% coupon works on: \nAlgaGenPods™ Apocydops\nAlgaGenPods™ Tisbe\nPhycoPure™ Reef Blend\nPhycoPure™ Zooxanthellae\nPhyto-Plasm™ Combo\nPhyto-Plasm™ Phyto Brown\nPhyto-Plasm™ Phyto Green\nPhyto-Plasm™ Phyto Zooxanthellae\nZoo-Plasm™ Decap’D Brine\nZoo-Plasm™ PODS\nZoo-Plasm™ Rotifers
URL:https://dfwmas.org/calendar/45-off-dfwmas-special-by-algagen-sponsor/
ATTACH;FMTTYPE=image/png:https://dfwmas.org/wp-content/uploads/2021/12/algagen-direct-logo-smaller.png
END:VEVENT
BEGIN:VEVENT
DTSTART;VALUE=DATE:20220320
DTEND;VALUE=DATE:20220327
DTSTAMP:20260421T065201
CREATED:20220317T192722Z
LAST-MODIFIED:20220317T192722Z
UID:358471-1647734400-1648339199@dfwmas.org
SUMMARY:The Big Little Fish Store 'Sponsor of the Week'
DESCRIPTION:DFWMAS is proud to announce ‘Sponsor of the Week’ March 20-26 The Big Little Fish Store \nCheck out our partner:\nhttps://www.facebook.com/thebiglittlefishstore/ \n\nHome
URL:https://dfwmas.org/calendar/the-big-little-fish-store-sponsor-of-the-week-2/
ATTACH;FMTTYPE=image/jpeg:https://dfwmas.org/wp-content/uploads/2019/10/BigLittleFishStore_560_Logo.jpg
END:VEVENT
BEGIN:VEVENT
DTSTART;TZID=America/Chicago:20220323T190000
DTEND;TZID=America/Chicago:20220323T200000
DTSTAMP:20260421T065204
CREATED:20220209T011039Z
LAST-MODIFIED:20220209T011109Z
UID:358421-1648062000-1648065600@dfwmas.org
SUMMARY:club monthly mtg Jay Hemdal: Fish Diseases\, QT Protocols via zoom + Big Little Fish Store in Dallas
DESCRIPTION:dfwmas March member hobby club meeting featuring Jay Hemdal on Fish Diseases\, Quarantine Procedures/Protocols \nmeeting is both zoom and in-person at The Big Little Fish Store\, 11111 N Central Expy Suite A Dallas\, TX 75243 (bring your own chair) – Jay will be projected for in person viewing or if COVID or metroplex traffic concerns then join via zoom \n You may know Jay Hemdal from any of his many published books\, as curator of Toledo Zoo (retired)\, or as the Answer Man at Reef2Reef \n  \nJoin Zoom Meeting \nhttps://us06web.zoom.us/j/81793648288?pwd=VmJvK0xOc1JVdHFNU0FGZG1BNXR3Zz09 \n  \nMeeting ID: 817 9364 8288 \nPasscode: 361216 \nOne tap mobile \n+13462487799\,\,81793648288#\,\,\,\,*361216# US (Houston) \n+12532158782\,\,81793648288#\,\,\,\,*361216# US (Tacoma) \n  \nDial by your location \n        +1 346 248 7799 US (Houston) \n        +1 253 215 8782 US (Tacoma) \n        +1 720 707 2699 US (Denver) \n        +1 646 558 8656 US (New York) \n        +1 301 715 8592 US (Washington DC) \n        +1 312 626 6799 US (Chicago) \nMeeting ID: 817 9364 8288 \nPasscode: 361216 \nFind your local number: https://us06web.zoom.us/u/kbmCkHCtaT
URL:https://dfwmas.org/calendar/club-monthly-mtg-fish-diseases-qt-protocols-via-zoom-big-little-fish-store-in-dallas/
ATTACH;FMTTYPE=image/jpeg:https://dfwmas.org/wp-content/uploads/2019/10/BigLittleFishStore_560_Logo.jpg
END:VEVENT
BEGIN:VEVENT
DTSTART;TZID=America/Chicago:20220326T080000
DTEND;TZID=America/Chicago:20220326T170000
DTSTAMP:20260421T065204
CREATED:20220209T011451Z
LAST-MODIFIED:20220209T011451Z
UID:358424-1648281600-1648314000@dfwmas.org
SUMMARY:Spring Bus Tour - South DFW Metroplex
DESCRIPTION:Spring Bus Tour \nFree\nSouth DFW Metroplex Local Fish Stores Tour \nSaturday\, March 26th\n8-8:30am Parking\nDuluth Trading Company\n620 E Interstate 20\nArlington\, TX 76018\n(carpools appreciated)\nPark Sides toward Back\nBus pickup in BACK of Duluth Trading Company\, Arlington TX 76018 \nSchedule\n8:15am – Meet in Duluth Trading Company Arlington parking lot\n8:45am – leave parking lot – MUST BE ON BUS\n9:00am – arrive Saltwater Paradise\n10:20am – leave Saltwater Paradise\n10:50am – arrive School of Fish\n12:10pm – leave School of Fish\n12:40pm – arrive Ocean Avenue\nlunch\n2:20pm – leave Ocean Avenue\n2:50pm – arrive Franks Tanks\n4:10pm – leave Franks Tanks\n4:40pm – arrive Duluth Trading Company Arlington parking lot\n5:00pm – bus leaves parking lot \nLimited Seating. Registration first come/first on order\, then waitlist. Storage under motorcoach w/bathroom. Drinks (water\, soda\, beer (BYOB – no glass))\, Raffles\, More Fun on bus! FREE
URL:https://dfwmas.org/calendar/spring-bus-tour-south-dfw-metroplex/
ATTACH;FMTTYPE=image/png:https://dfwmas.org/wp-content/uploads/2022/02/DFWMAS-excited-school-bus-graphic.png
END:VEVENT
BEGIN:VEVENT
DTSTART;VALUE=DATE:20220327
DTEND;VALUE=DATE:20220403
DTSTAMP:20260421T065204
CREATED:20220317T193911Z
LAST-MODIFIED:20220317T193911Z
UID:358473-1648339200-1648943999@dfwmas.org
SUMMARY:Roberts Reef 'Sponsor of the Week'
DESCRIPTION:DFWMAS is proud to announce ‘Sponsor of the Week’ Roberts Reef March 27-April 2  \nCheck out our partner:\nhttps://www.facebook.com/Ro63rts.R33F/\nhttp://robertsreef.com/
URL:https://dfwmas.org/calendar/roberts-reef-sponsor-of-the-week/
ATTACH;FMTTYPE=image/png:https://dfwmas.org/wp-content/uploads/2022/02/robertsreef-logo.png
END:VEVENT
END:VCALENDAR