BEGIN:VCALENDAR
VERSION:2.0
PRODID:-//DFWMAS - ECPv6.3.4//NONSGML v1.0//EN
CALSCALE:GREGORIAN
METHOD:PUBLISH
X-WR-CALNAME:DFWMAS
X-ORIGINAL-URL:https://dfwmas.org
X-WR-CALDESC:Events for DFWMAS
REFRESH-INTERVAL;VALUE=DURATION:PT1H
X-Robots-Tag:noindex
X-PUBLISHED-TTL:PT1H
BEGIN:VTIMEZONE
TZID:America/Chicago
BEGIN:DAYLIGHT
TZOFFSETFROM:-0600
TZOFFSETTO:-0500
TZNAME:CDT
DTSTART:20210314T080000
END:DAYLIGHT
BEGIN:STANDARD
TZOFFSETFROM:-0500
TZOFFSETTO:-0600
TZNAME:CST
DTSTART:20211107T070000
END:STANDARD
BEGIN:DAYLIGHT
TZOFFSETFROM:-0600
TZOFFSETTO:-0500
TZNAME:CDT
DTSTART:20220313T080000
END:DAYLIGHT
BEGIN:STANDARD
TZOFFSETFROM:-0500
TZOFFSETTO:-0600
TZNAME:CST
DTSTART:20221106T070000
END:STANDARD
END:VTIMEZONE
BEGIN:VEVENT
DTSTART;VALUE=DATE:20211128
DTEND;VALUE=DATE:20211205
DTSTAMP:20260421T161126
CREATED:20211114T185742Z
LAST-MODIFIED:20211220T161513Z
UID:358236-1638057600-1638662399@dfwmas.org
SUMMARY:The Big Little Fish Store 'Sponsor of the Week'
DESCRIPTION:DFWMAS is proud to announce “Sponsor of the Week” Nov 28 – Dec 4th: The Big Little Fish Store\nBe sure to check our partner out:\nhttps://www.thebiglittlefishstore.com/\nhttps://www.facebook.com/thebiglittlefishstore/
URL:https://dfwmas.org/calendar/the-big-little-fish-store-sponsor-of-the-week/
ATTACH;FMTTYPE=image/jpeg:https://dfwmas.org/wp-content/uploads/2019/10/BigLittleFishStore_560_Logo.jpg
END:VEVENT
BEGIN:VEVENT
DTSTART;VALUE=DATE:20211201
DTEND;VALUE=DATE:20220101
DTSTAMP:20260421T161126
CREATED:20211216T180857Z
LAST-MODIFIED:20211216T180857Z
UID:358310-1638316800-1640995199@dfwmas.org
SUMMARY:Jan 2022 Photo of Month - Dec submittals
DESCRIPTION:Premium Member Contest – Submit your photos now for Jan 2022 voting. Win $50 gift certificate and photo featured on website and FaceBook
URL:https://dfwmas.org/calendar/jan-2022-photo-of-month-dec-submittals/
ATTACH;FMTTYPE=image/jpeg:https://dfwmas.org/wp-content/uploads/2017/11/Picture-of-the-month-November-2017.jpg
END:VEVENT
BEGIN:VEVENT
DTSTART;VALUE=DATE:20211205
DTEND;VALUE=DATE:20211212
DTSTAMP:20260421T161126
CREATED:20211114T185915Z
LAST-MODIFIED:20211220T161930Z
UID:358238-1638662400-1639267199@dfwmas.org
SUMMARY:Dallas North Aquarium 'Sponsor of the Week'
DESCRIPTION:DFWMAS is proud to announce ‘Sponsor of the Week’ Dallas North Aquarium – Dec 5 – Dec 11th\nCheck out our partner at:\nhttps://www.facebook.com/DallasNorth/\nhttps://dallasnorthaquarium.com/
URL:https://dfwmas.org/calendar/dallas-north-aquarium-sponsor-of-the-week/
ATTACH;FMTTYPE=image/png:https://dfwmas.org/wp-content/uploads/2016/12/DallasNorth400x200-1.png
END:VEVENT
BEGIN:VEVENT
DTSTART;TZID=America/Chicago:20211208T193000
DTEND;TZID=America/Chicago:20211208T210000
DTSTAMP:20260421T161126
CREATED:20211211T132226Z
LAST-MODIFIED:20211211T132226Z
UID:358298-1638991800-1638997200@dfwmas.org
SUMMARY:Holiday Potluck Club Meeting/Party
DESCRIPTION:Details: \nhttps://www.dfwmas.org/community/events/holiday-potluck-member-gathering-dec-8th-730-9pm-grand-prairie-2/#post-337777
URL:https://dfwmas.org/calendar/holiday-potluck-club-meeting-party/
END:VEVENT
BEGIN:VEVENT
DTSTART;VALUE=DATE:20211212
DTEND;VALUE=DATE:20211219
DTSTAMP:20260421T161129
CREATED:20211114T190100Z
LAST-MODIFIED:20211216T174127Z
UID:358240-1639267200-1639871999@dfwmas.org
SUMMARY:AquaStudios 'Sponsor of the Week'
DESCRIPTION:DFWMAS is proud to announce ‘Sponsor of the Week’ AquaStudios – Dec 12 – Dec 18th\nCheck out our partner at:\nhttps://www.facebook.com/AquastudiosAquarium/
URL:https://dfwmas.org/calendar/aquastudios-sponsor-of-the-week/
ATTACH;FMTTYPE=image/jpeg:https://dfwmas.org/wp-content/uploads/2021/11/Aquastudios-logo.jpg
END:VEVENT
BEGIN:VEVENT
DTSTART;VALUE=DATE:20211219
DTEND;VALUE=DATE:20211226
DTSTAMP:20260421T161129
CREATED:20211114T190410Z
LAST-MODIFIED:20211216T174952Z
UID:358242-1639872000-1640476799@dfwmas.org
SUMMARY:Emasis Software 'Sponsor of the Week'
DESCRIPTION:DFWMAS is proud to announce ‘Sponsor of the Week’ Emasis Software – Dec 19 – Dec 25th\nCheck out our partner at:\nhttps://www.facebook.com/emasis.software/\nhttp://www.emasis.com/en/homepage-2
URL:https://dfwmas.org/calendar/emasis-software-sponsor-of-the-week/
ATTACH;FMTTYPE=image/png:https://dfwmas.org/wp-content/uploads/2016/12/Emasis400x200.png
END:VEVENT
BEGIN:VEVENT
DTSTART;VALUE=DATE:20211226
DTEND;VALUE=DATE:20220102
DTSTAMP:20260421T161129
CREATED:20211114T190628Z
LAST-MODIFIED:20211216T175325Z
UID:358244-1640476800-1641081599@dfwmas.org
SUMMARY:Frank's Tanks 'Sponsor of the Week'
DESCRIPTION:DFWMAS is proud to announce ‘Sponsor of the Week’ Frank’s Tanks for Dec 26-Jan 1st\nCheck out our partner at:\nhttps://www.facebook.com/frankstanks1/\nhttps://www.franks-tanks.com/
URL:https://dfwmas.org/calendar/franks-tanks-sponsor-of-the-week/
ATTACH;FMTTYPE=image/png:https://dfwmas.org/wp-content/uploads/2016/12/FrankThanks400x200.png
END:VEVENT
END:VCALENDAR