BEGIN:VCALENDAR
VERSION:2.0
PRODID:-//DFWMAS - ECPv6.3.4//NONSGML v1.0//EN
CALSCALE:GREGORIAN
METHOD:PUBLISH
X-ORIGINAL-URL:https://dfwmas.org
X-WR-CALDESC:Events for DFWMAS
REFRESH-INTERVAL;VALUE=DURATION:PT1H
X-Robots-Tag:noindex
X-PUBLISHED-TTL:PT1H
BEGIN:VTIMEZONE
TZID:America/Chicago
BEGIN:DAYLIGHT
TZOFFSETFROM:-0600
TZOFFSETTO:-0500
TZNAME:CDT
DTSTART:20210314T080000
END:DAYLIGHT
BEGIN:STANDARD
TZOFFSETFROM:-0500
TZOFFSETTO:-0600
TZNAME:CST
DTSTART:20211107T070000
END:STANDARD
END:VTIMEZONE
BEGIN:VEVENT
DTSTART;TZID=America/Chicago:20211104T190000
DTEND;TZID=America/Chicago:20211104T200000
DTSTAMP:20260421T175546
CREATED:20211114T182235Z
LAST-MODIFIED:20211114T213407Z
UID:358230-1636052400-1636056000@dfwmas.org
SUMMARY:member meeting Nov 4\, 7-8pm
DESCRIPTION:Our next virtual Club Meeting will take place Thursday\, November 4rd\, 2021 from 7:00 p.m. to 8:00 p.m. and it’s a going to be a casual get together. \nThe theme of the meeting is “Show Us Your Aquarium!” \nWhere:     <link removed by Secretary after meeting>  Photos added below after meeting \nSo clean up your glass\, and when you connect with meeting software\, you can use your phone\, tablet or laptop to share your system with us for a few minutes. It would be best if your lighting was more white and less blue so we can actually see your reef. \nLink to photos: \nhttps://www.dfwmas.org/community/bod-meetings-and-minutes/november-11-4-2021-member-club-meeting-show-off-your-tank-info-has-been-under-the-zoom-tank-tour-thread-below/#post-337531
URL:https://dfwmas.org/calendar/member-meeting-nov-4-7-8pm/
ATTACH;FMTTYPE=image/jpeg:https://dfwmas.org/wp-content/uploads/revslider/welcome/home.jpg
END:VEVENT
BEGIN:VEVENT
DTSTART;VALUE=DATE:20211121
DTEND;VALUE=DATE:20211128
DTSTAMP:20260421T175551
CREATED:20211114T185608Z
LAST-MODIFIED:20211114T185608Z
UID:358234-1637452800-1638057599@dfwmas.org
SUMMARY:Rift2Reef Aquatics 'Sponsor of the Week'
DESCRIPTION:DFWMAS is proud to announce ‘Sponsor of the Week’ Rift2Reef Aquatics – Nov 21 – Nov 27\nCheck out our partner:\nhttps://www.facebook.com/rift2reef/\nhttps://www.rift2reef.com/
URL:https://dfwmas.org/calendar/rift2reef-aquatics-sponsor-of-the-week/
ATTACH;FMTTYPE=image/jpeg:https://dfwmas.org/wp-content/uploads/revslider/welcome/home.jpg
END:VEVENT
BEGIN:VEVENT
DTSTART;VALUE=DATE:20211128
DTEND;VALUE=DATE:20211205
DTSTAMP:20260421T175551
CREATED:20211114T185742Z
LAST-MODIFIED:20211220T161513Z
UID:358236-1638057600-1638662399@dfwmas.org
SUMMARY:The Big Little Fish Store 'Sponsor of the Week'
DESCRIPTION:DFWMAS is proud to announce “Sponsor of the Week” Nov 28 – Dec 4th: The Big Little Fish Store\nBe sure to check our partner out:\nhttps://www.thebiglittlefishstore.com/\nhttps://www.facebook.com/thebiglittlefishstore/
URL:https://dfwmas.org/calendar/the-big-little-fish-store-sponsor-of-the-week/
ATTACH;FMTTYPE=image/jpeg:https://dfwmas.org/wp-content/uploads/2019/10/BigLittleFishStore_560_Logo.jpg
END:VEVENT
END:VCALENDAR