BEGIN:VCALENDAR
VERSION:2.0
PRODID:-//DFWMAS - ECPv6.3.4//NONSGML v1.0//EN
CALSCALE:GREGORIAN
METHOD:PUBLISH
X-WR-CALNAME:DFWMAS
X-ORIGINAL-URL:https://dfwmas.org
X-WR-CALDESC:Events for DFWMAS
REFRESH-INTERVAL;VALUE=DURATION:PT1H
X-Robots-Tag:noindex
X-PUBLISHED-TTL:PT1H
BEGIN:VTIMEZONE
TZID:America/Chicago
BEGIN:DAYLIGHT
TZOFFSETFROM:-0600
TZOFFSETTO:-0500
TZNAME:CDT
DTSTART:20210314T080000
END:DAYLIGHT
BEGIN:STANDARD
TZOFFSETFROM:-0500
TZOFFSETTO:-0600
TZNAME:CST
DTSTART:20211107T070000
END:STANDARD
END:VTIMEZONE
BEGIN:VEVENT
DTSTART;TZID=America/Chicago:20210518T190000
DTEND;TZID=America/Chicago:20210518T200000
DTSTAMP:20260422T050239
CREATED:20210215T193649Z
LAST-MODIFIED:20210518T214340Z
UID:358178-1621364400-1621368000@dfwmas.org
SUMMARY:Paula Carlson  - Challenges of running a public aquarium despite the Pandemic
DESCRIPTION:Dear members\, \nYou are invited to a Zoom meeting. \nTopic: Paula Carlson  – Challenges of running a public aquarium despite the Pandemic\nTime: May 18\, 2021 07:00 PM Central Time (US and Canada) \nJoin Zoom Meeting\nhttps://zoom.us/j/99529306186?pwd=dVZHT1NFL1E2NnRGT0VCMGZLUGo5QT09 \nMeeting ID: 995 2930 6186\nPasscode: 534010 \nOne tap mobile\n+16465588656\,\,99529306186#\,\,\,\,*534010# US (New York)\n+13017158592\,\,99529306186#\,\,\,\,*534010# US (Washington DC) \nDial by your location\n        +1 646 558 8656 US (New York)\n        +1 301 715 8592 US (Washington DC)\n        +1 312 626 6799 US (Chicago)\n        +1 669 900 9128 US (San Jose)\n        +1 253 215 8782 US (Tacoma)\n        +1 346 248 7799 US (Houston)\nMeeting ID: 995 2930 6186\nPasscode: 534010\nFind your local number: https://zoom.us/u/abZg8euRG
URL:https://dfwmas.org/calendar/paula-carlson-challenges-of-running-a-public-aquarium-despite-the-pandemic/
ATTACH;FMTTYPE=image/jpeg:https://dfwmas.org/wp-content/uploads/2021/02/186506388_928310681350838_1756530854948609491_n.jpeg
ORGANIZER;CN="DFWMAS":MAILTO:webmaster@dfwmas.org
END:VEVENT
END:VCALENDAR