BEGIN:VCALENDAR
VERSION:2.0
PRODID:-//DFWMAS - ECPv6.3.4//NONSGML v1.0//EN
CALSCALE:GREGORIAN
METHOD:PUBLISH
X-ORIGINAL-URL:https://dfwmas.org
X-WR-CALDESC:Events for DFWMAS
REFRESH-INTERVAL;VALUE=DURATION:PT1H
X-Robots-Tag:noindex
X-PUBLISHED-TTL:PT1H
BEGIN:VTIMEZONE
TZID:America/Chicago
BEGIN:DAYLIGHT
TZOFFSETFROM:-0600
TZOFFSETTO:-0500
TZNAME:CDT
DTSTART:20210314T080000
END:DAYLIGHT
BEGIN:STANDARD
TZOFFSETFROM:-0500
TZOFFSETTO:-0600
TZNAME:CST
DTSTART:20211107T070000
END:STANDARD
END:VTIMEZONE
BEGIN:VEVENT
DTSTART;TZID=America/Chicago:20210421T190000
DTEND;TZID=America/Chicago:20210421T200000
DTSTAMP:20260422T075751
CREATED:20210215T192620Z
LAST-MODIFIED:20210401T165639Z
UID:358171-1619031600-1619035200@dfwmas.org
SUMMARY:Joe Yaiullo  - Q&A regarding maintaining an long term 20\,000g mixed reef
DESCRIPTION:Dear members\, \nYou are invited to a Zoom meeting.\nWhen: Apr 21\, 2021 07:00 PM Central Time (US and Canada) \nJoe Yaiullo – Q&A regarding maintaining an long term 20\,000g mixed reef.  \nJoin us! \nRSVP is required; Register in advance for this meeting:\nhttps://zoom.us/meeting/register/tJUqc-6qrzIpH9z9-Sm68uz8KkoDuj-vG0aH \nAfter registering\, you will receive a confirmation email containing information about joining the meeting.
URL:https://dfwmas.org/calendar/joe-yaiullo-qa-regarding-maintaining-an-long-term-20000g-mixed-reef/
ATTACH;FMTTYPE=image/jpeg:https://dfwmas.org/wp-content/uploads/2021/02/Joe_Yaiullo-scaled.jpeg
ORGANIZER;CN="DFWMAS":MAILTO:webmaster@dfwmas.org
END:VEVENT
END:VCALENDAR