BEGIN:VCALENDAR
VERSION:2.0
PRODID:-//DFWMAS - ECPv6.3.4//NONSGML v1.0//EN
CALSCALE:GREGORIAN
METHOD:PUBLISH
X-ORIGINAL-URL:https://dfwmas.org
X-WR-CALDESC:Events for DFWMAS
REFRESH-INTERVAL;VALUE=DURATION:PT1H
X-Robots-Tag:noindex
X-PUBLISHED-TTL:PT1H
BEGIN:VTIMEZONE
TZID:America/Chicago
BEGIN:DAYLIGHT
TZOFFSETFROM:-0600
TZOFFSETTO:-0500
TZNAME:CDT
DTSTART:20210314T080000
END:DAYLIGHT
BEGIN:STANDARD
TZOFFSETFROM:-0500
TZOFFSETTO:-0600
TZNAME:CST
DTSTART:20211107T070000
END:STANDARD
END:VTIMEZONE
BEGIN:VEVENT
DTSTART;TZID=America/Chicago:20210310T190000
DTEND;TZID=America/Chicago:20210310T200000
DTSTAMP:20260422T075751
CREATED:20210215T190136Z
LAST-MODIFIED:20210225T155325Z
UID:358164-1615402800-1615406400@dfwmas.org
SUMMARY:Chad Clayton  - Copepods and other live foods
DESCRIPTION:Dear members\, \nYou are invited to a Zoom meeting.\nWhen: Mar 10\, 2021\, 07:00 PM Central Time (US and Canada) \nJoe Yaiullo – Chad Clayton – Copepods and other live foods. \nJoin us! \nRSVP is required; Register in advance for this meeting:\nhttps://zoom.us/meeting/register/tJcofu2trDsrGNUsLpQtWTegKVB4RodTdrca \nAfter registering\, you will receive a confirmation email containing information about joining the meeting.
URL:https://dfwmas.org/calendar/chad-clayton-copepods-and-other-live-foods/
ORGANIZER;CN="DFWMAS":MAILTO:webmaster@dfwmas.org
END:VEVENT
BEGIN:VEVENT
DTSTART;TZID=America/Chicago:20210324T190000
DTEND;TZID=America/Chicago:20210324T200000
DTSTAMP:20260422T075751
CREATED:20210215T192133Z
LAST-MODIFIED:20210316T220002Z
UID:358169-1616612400-1616616000@dfwmas.org
SUMMARY:Richard Ross - Octopus care first\, then SECORE/coral spawning
DESCRIPTION:Dear members\, \nYou are invited to a Zoom meeting.\nWhen: Mar 24\, 2021 07:00 PM Central Time (US and Canada) \nRichard Ross – Octopus care first\, then SECORE/coral spawning. \nJoin us! \nRSVP is required; Register in advance for this meeting:\nhttps://zoom.us/meeting/register/tJ0sduqrpjouGNRw_EVEQEe1G85QloQbsHfu \nAfter registering\, you will receive a confirmation email containing information about joining the meeting.
URL:https://dfwmas.org/calendar/richard-ross-octopus-care-first-then-secore-coral-spawning/
ATTACH;FMTTYPE=image/jpeg:https://dfwmas.org/wp-content/uploads/2021/03/Richard.jpeg
ORGANIZER;CN="DFWMAS":MAILTO:webmaster@dfwmas.org
END:VEVENT
END:VCALENDAR