BEGIN:VCALENDAR
VERSION:2.0
PRODID:-//DFWMAS - ECPv6.3.4//NONSGML v1.0//EN
CALSCALE:GREGORIAN
METHOD:PUBLISH
X-WR-CALNAME:DFWMAS
X-ORIGINAL-URL:https://dfwmas.org
X-WR-CALDESC:Events for DFWMAS
REFRESH-INTERVAL;VALUE=DURATION:PT1H
X-Robots-Tag:noindex
X-PUBLISHED-TTL:PT1H
BEGIN:VTIMEZONE
TZID:America/Chicago
BEGIN:DAYLIGHT
TZOFFSETFROM:-0600
TZOFFSETTO:-0500
TZNAME:CDT
DTSTART:20210314T080000
END:DAYLIGHT
BEGIN:STANDARD
TZOFFSETFROM:-0500
TZOFFSETTO:-0600
TZNAME:CST
DTSTART:20211107T070000
END:STANDARD
END:VTIMEZONE
BEGIN:VEVENT
DTSTART;TZID=America/Chicago:20210127T190000
DTEND;TZID=America/Chicago:20210127T200000
DTSTAMP:20260422T210829
CREATED:20210215T184633Z
LAST-MODIFIED:20210215T184740Z
UID:358161-1611774000-1611777600@dfwmas.org
SUMMARY:Duane Ostreich talks about maintenance.... what’s routine and what’s extra
DESCRIPTION:Dear members\, \nYou are invited to a Zoom meeting.\nWhen: Jan 27\, 2021\, 07:00 PM Central Time (US and Canada)
URL:https://dfwmas.org/calendar/duane-ostreich/
ORGANIZER;CN="DFWMAS":MAILTO:webmaster@dfwmas.org
END:VEVENT
END:VCALENDAR