BEGIN:VCALENDAR
VERSION:2.0
PRODID:-//DFWMAS - ECPv6.3.4//NONSGML v1.0//EN
CALSCALE:GREGORIAN
METHOD:PUBLISH
X-WR-CALNAME:DFWMAS
X-ORIGINAL-URL:https://dfwmas.org
X-WR-CALDESC:Events for DFWMAS
REFRESH-INTERVAL;VALUE=DURATION:PT1H
X-Robots-Tag:noindex
X-PUBLISHED-TTL:PT1H
BEGIN:VTIMEZONE
TZID:UTC
BEGIN:STANDARD
TZOFFSETFROM:+0000
TZOFFSETTO:+0000
TZNAME:UTC
DTSTART:20160101T000000
END:STANDARD
END:VTIMEZONE
BEGIN:VEVENT
DTSTART;TZID=UTC:20161119T090000
DTEND;TZID=UTC:20161119T160000
DTSTAMP:20260419T184953
CREATED:20161119T144014Z
LAST-MODIFIED:20161227T055350Z
UID:32779-1479546000-1479571200@dfwmas.org
SUMMARY:Frag Swap
DESCRIPTION:Saturday 19\, November.\n\nSchedule:\n 9:00 AM-Noon – Seller setup\nNoon-12:30 PM – Open to Members only\n12:30 PM-3:00 PM – Open\n3:00 PM-4:00 PM – Raffle \nAddress:\n4201 Heritage Trace Pkwy\, Fort Worth TX 76244
URL:https://dfwmas.org/calendar/frag-swap/
ATTACH;FMTTYPE=image/jpeg:https://dfwmas.org/wp-content/uploads/2016/11/Grag-Swap-Insta-e1482796421824.jpg
END:VEVENT
BEGIN:VEVENT
DTSTART;TZID=UTC:20161106T130000
DTEND;TZID=UTC:20161106T150000
DTSTAMP:20260419T184953
CREATED:20161106T152457Z
LAST-MODIFIED:20161227T055454Z
UID:32776-1478437200-1478444400@dfwmas.org
SUMMARY:Frag Demonstration
DESCRIPTION:Sunday 6\, 13:00 -15:00 hrs\nOcean Avenue\n 6401 S Cooper St\, Arlington\, TX 76001\n (817) 308-6569 \nBring your corals and learn the LFS tricks to frag your corals. You will see how to frag the different types of corals and have the chance to frag your own corals. \nOA is a premier store and the specials for members will be great. This will be a great event that you won?t want to miss.
URL:https://dfwmas.org/calendar/frag-demonstration/
ATTACH;FMTTYPE=image/jpeg:https://dfwmas.org/wp-content/uploads/2016/11/frag-class-e1482796485640.jpg
END:VEVENT
END:VCALENDAR