BEGIN:VCALENDAR
VERSION:2.0
PRODID:-//DFWMAS - ECPv6.3.4//NONSGML v1.0//EN
CALSCALE:GREGORIAN
METHOD:PUBLISH
X-WR-CALNAME:DFWMAS
X-ORIGINAL-URL:https://dfwmas.org
X-WR-CALDESC:Events for DFWMAS
REFRESH-INTERVAL;VALUE=DURATION:PT1H
X-Robots-Tag:noindex
X-PUBLISHED-TTL:PT1H
BEGIN:VTIMEZONE
TZID:America/Chicago
BEGIN:DAYLIGHT
TZOFFSETFROM:-0600
TZOFFSETTO:-0500
TZNAME:CDT
DTSTART:20230312T080000
END:DAYLIGHT
BEGIN:STANDARD
TZOFFSETFROM:-0500
TZOFFSETTO:-0600
TZNAME:CST
DTSTART:20231105T070000
END:STANDARD
BEGIN:DAYLIGHT
TZOFFSETFROM:-0600
TZOFFSETTO:-0500
TZNAME:CDT
DTSTART:20240310T080000
END:DAYLIGHT
BEGIN:STANDARD
TZOFFSETFROM:-0500
TZOFFSETTO:-0600
TZNAME:CST
DTSTART:20241103T070000
END:STANDARD
BEGIN:DAYLIGHT
TZOFFSETFROM:-0600
TZOFFSETTO:-0500
TZNAME:CDT
DTSTART:20250309T080000
END:DAYLIGHT
BEGIN:STANDARD
TZOFFSETFROM:-0500
TZOFFSETTO:-0600
TZNAME:CST
DTSTART:20251102T070000
END:STANDARD
BEGIN:DAYLIGHT
TZOFFSETFROM:-0600
TZOFFSETTO:-0500
TZNAME:CDT
DTSTART:20260308T080000
END:DAYLIGHT
BEGIN:STANDARD
TZOFFSETFROM:-0500
TZOFFSETTO:-0600
TZNAME:CST
DTSTART:20261101T070000
END:STANDARD
END:VTIMEZONE
BEGIN:VEVENT
DTSTART;VALUE=DATE:20230416
DTEND;VALUE=DATE:20230423
DTSTAMP:20260419T194851
CREATED:20221216T221316Z
LAST-MODIFIED:20221216T221316Z
UID:358946-1681603200-1682207999@dfwmas.org
SUMMARY:Rift2Reef Aquatics 'Sponsor of the Week'
DESCRIPTION:April 16-22 Rift2Reef Aquatics ‘Sponsor of the Week’
URL:https://dfwmas.org/calendar/rift2reef-aquatics-sponsor-of-the-week-3/
ATTACH;FMTTYPE=image/jpeg:https://dfwmas.org/wp-content/uploads/2022/03/Rift2Reef-better-logo.jpg
END:VEVENT
BEGIN:VEVENT
DTSTART;TZID=America/Chicago:20230422T130000
DTEND;TZID=America/Chicago:20230422T140000
DTSTAMP:20260419T194851
CREATED:20230114T051245Z
LAST-MODIFIED:20230114T051245Z
UID:359074-1682168400-1682172000@dfwmas.org
SUMMARY:Club Gathering & Raffle - Frank's Tanks
DESCRIPTION:Club Gathering & Raffle – Frank’s Tanks \nApril 22nd from 1-2pm \nRaffle at 2pm \nMore info in website Forum. Refer Forum.
URL:https://dfwmas.org/calendar/club-gathering-raffle-franks-tanks/
ATTACH;FMTTYPE=image/png:https://dfwmas.org/wp-content/uploads/2016/12/FrankThanks400x200.png
END:VEVENT
BEGIN:VEVENT
DTSTART;VALUE=DATE:20230423
DTEND;VALUE=DATE:20230430
DTSTAMP:20260419T194851
CREATED:20221216T221414Z
LAST-MODIFIED:20230406T143751Z
UID:358948-1682208000-1682812799@dfwmas.org
SUMMARY:TUNZE USA 'Sponsor of the Week'
DESCRIPTION:April 23-29 TUNZE USA ‘Sponsor of the Week’ \nhttps://www.tunze.com/US/en.html
URL:https://dfwmas.org/calendar/salgado-aquatics-sponsor-of-the-week-2/
ATTACH;FMTTYPE=image/jpeg:https://dfwmas.org/wp-content/uploads/2023/03/csm_Logo_Tunze_2020_2__7722c40ddd.jpg
END:VEVENT
BEGIN:VEVENT
DTSTART;TZID=America/Chicago:20260419T194851
DTEND;TZID=America/Chicago:20260419T194851
DTSTAMP:20260419T194851
CREATED:20230205T221411Z
LAST-MODIFIED:20230210T175431Z
UID:359097-1776628131-1776628131@dfwmas.org
SUMMARY:5 LFS Bus Tour
DESCRIPTION:Spring 2023 Bus Tour – North DFW Metroplex Five LFS Tour \nFREE EVENT \nDetails\, refer website Forum. \nSave The Date Announcement\, go: \nhttps://forum.dfwmas.org/index.php?threads/spring-bus-tour-april-29th-save-the-date-announcement-general.45555/#post-342037 \nhttps://forum.dfwmas.org/index.php?threads/spring-bus-tour-april-29th-save-the-date-announcement-general.45555/#post-342037
URL:https://dfwmas.org/calendar/placeholder-9-5/
END:VEVENT
BEGIN:VEVENT
DTSTART;VALUE=DATE:20230430
DTEND;VALUE=DATE:20230507
DTSTAMP:20260419T194851
CREATED:20221216T221546Z
LAST-MODIFIED:20221216T221635Z
UID:358950-1682812800-1683417599@dfwmas.org
SUMMARY:Saltwater Paradise 'Sponsor of the Week'
DESCRIPTION:April 30-May 6 Saltwater Paradise ‘Sponsor of the Week’
URL:https://dfwmas.org/calendar/saltwater-paradise-sponsor-of-the-week/
ATTACH;FMTTYPE=image/png:https://dfwmas.org/wp-content/uploads/2022/12/Saltwater-Paradise-logo-extract.png
END:VEVENT
BEGIN:VEVENT
DTSTART;VALUE=DATE:20230507
DTEND;VALUE=DATE:20230514
DTSTAMP:20260419T194851
CREATED:20221216T221749Z
LAST-MODIFIED:20221216T221749Z
UID:358953-1683417600-1684022399@dfwmas.org
SUMMARY:School of Fish 'Sponsor of the Week'
DESCRIPTION:May 7-13 School of Fish ‘Sponsor of the Week’
URL:https://dfwmas.org/calendar/school-of-fish-sponsor-of-the-week-3/
ATTACH;FMTTYPE=image/jpeg:https://dfwmas.org/wp-content/uploads/2021/12/School-of-Fish-logo.jpg
END:VEVENT
BEGIN:VEVENT
DTSTART;TZID=America/Chicago:20260419T194851
DTEND;TZID=America/Chicago:20260419T194851
DTSTAMP:20260419T194851
CREATED:20230320T164730Z
LAST-MODIFIED:20230320T172200Z
UID:359151-1776628131-1776628131@dfwmas.org
SUMMARY:Hobbyist Hangout at Melev's Reef
DESCRIPTION:Hobbyist Hangout at Melev’s Reef\n6455 Westrock Drive\nFort Worth TX 76133 \n3:30-4:30pm with Giveaway Raffle at 4:30pm \nSAVE THE DATE – as it gets closer there will be info in Forum
URL:https://dfwmas.org/calendar/hobbyist-hangout-at-melevs-reef/
END:VEVENT
BEGIN:VEVENT
DTSTART;VALUE=DATE:20230514
DTEND;VALUE=DATE:20230521
DTSTAMP:20260419T194851
CREATED:20221216T221858Z
LAST-MODIFIED:20221216T221858Z
UID:358955-1684022400-1684627199@dfwmas.org
SUMMARY:The Big Little Fish Store 'Sponsor of the Week'
DESCRIPTION:May 14-20 The Big Little Fish Store ‘Sponsor of the Week’
URL:https://dfwmas.org/calendar/the-big-little-fish-store-sponsor-of-the-week-3/
ATTACH;FMTTYPE=image/jpeg:https://dfwmas.org/wp-content/uploads/2019/10/BigLittleFishStore_560_Logo.jpg
END:VEVENT
BEGIN:VEVENT
DTSTART;TZID=America/Chicago:20230518T190000
DTEND;TZID=America/Chicago:20230518T200000
DTSTAMP:20260419T194851
CREATED:20230327T205446Z
LAST-MODIFIED:20230327T205446Z
UID:359173-1684436400-1684440000@dfwmas.org
SUMMARY:Club Mtg Brightwell's MetroKat
DESCRIPTION:Club May Meeting \nfeaturing MetroKat of Brightwell \nThursday May 18 7pm-8pm \nZOOM ONLY \nDetails in website Forum. Refer Forum. \nhttps://forum.dfwmas.org/index.php?threads/may-18-monthly-mtg-featuring-metrokat-of-brightwell-public-thread.45789/
URL:https://dfwmas.org/calendar/club-mtg-brightwells-metrokat/
ATTACH;FMTTYPE=image/png:https://dfwmas.org/wp-content/uploads/2016/12/Brightwell400x200.png
END:VEVENT
BEGIN:VEVENT
DTSTART;TZID=America/Chicago:20260419T194851
DTEND;TZID=America/Chicago:20260419T194851
DTSTAMP:20260419T194851
CREATED:20230222T202425Z
LAST-MODIFIED:20230222T202425Z
UID:359118-1776628131-1776628131@dfwmas.org
SUMMARY:Aquashella Texas
DESCRIPTION:Aquashella Texas \nClub will be at booth 3320\, against back wall (not far from club’s 2022 booth/table). \nFor tickets and event information\, go: \nhttps://aquashella.com/ \n 
URL:https://dfwmas.org/calendar/aquashella-texas/
END:VEVENT
BEGIN:VEVENT
DTSTART;VALUE=DATE:20230521
DTEND;VALUE=DATE:20230528
DTSTAMP:20260419T194852
CREATED:20221216T222129Z
LAST-MODIFIED:20221216T222129Z
UID:358957-1684627200-1685231999@dfwmas.org
SUMMARY:The Coral Station 'Sponsor of the Week'
DESCRIPTION:May 21-27 The Coral Station ‘Sponsor of the Week’
URL:https://dfwmas.org/calendar/the-coral-station-sponsor-of-the-week/
ATTACH;FMTTYPE=image/jpeg:https://dfwmas.org/wp-content/uploads/2022/12/The-Coral-Station-logo-from-FB-banner.jpg
END:VEVENT
BEGIN:VEVENT
DTSTART;VALUE=DATE:20230528
DTEND;VALUE=DATE:20230604
DTSTAMP:20260419T194852
CREATED:20221216T222234Z
LAST-MODIFIED:20221216T222234Z
UID:358960-1685232000-1685836799@dfwmas.org
SUMMARY:Premium Aquatics 'Sponsor of the Week'
DESCRIPTION:May 28-June 3 Premium Aquatics ‘Sponsor of the Week’
URL:https://dfwmas.org/calendar/premium-aquatics-sponsor-of-the-week-3/
ATTACH;FMTTYPE=image/jpeg:https://dfwmas.org/wp-content/uploads/2020/04/PremiumAquatics-NEW-Logo-Final.jpg
END:VEVENT
BEGIN:VEVENT
DTSTART;VALUE=DATE:20230604
DTEND;VALUE=DATE:20230611
DTSTAMP:20260419T194852
CREATED:20221216T222329Z
LAST-MODIFIED:20221216T222329Z
UID:358962-1685836800-1686441599@dfwmas.org
SUMMARY:Algae Barn 'Sponsor of the Week'
DESCRIPTION:June 4-10 Algae Barn ‘Sponsor of the Week’
URL:https://dfwmas.org/calendar/algae-barn-sponsor-of-the-week-2/
ATTACH;FMTTYPE=image/png:https://dfwmas.org/wp-content/uploads/2022/03/Algae-Barn.png
END:VEVENT
BEGIN:VEVENT
DTSTART;VALUE=DATE:20230611
DTEND;VALUE=DATE:20230618
DTSTAMP:20260419T194852
CREATED:20221216T222434Z
LAST-MODIFIED:20221216T222434Z
UID:358964-1686441600-1687046399@dfwmas.org
SUMMARY:Aqua Ultraviolet 'Sponsor of the Week'
DESCRIPTION:June 11-17 Aqua Ultraviolet ‘Sponsor of the Week’
URL:https://dfwmas.org/calendar/aqua-ultraviolet-sponsor-of-the-week-2/
ATTACH;FMTTYPE=image/png:https://dfwmas.org/wp-content/uploads/2022/01/cropped-AquaUV_Logo_WEB-300x153-1.png
END:VEVENT
BEGIN:VEVENT
DTSTART;VALUE=DATE:20230618
DTEND;VALUE=DATE:20230625
DTSTAMP:20260419T194852
CREATED:20221216T222549Z
LAST-MODIFIED:20230320T153415Z
UID:358966-1687046400-1687651199@dfwmas.org
SUMMARY:Coral Farmers Market 'Sponsor of the Week'
DESCRIPTION:June 18-24 Coral Farmers Market ‘Sponsor of the Week’\nhttp://www.coralfarmersmarket.com/
URL:https://dfwmas.org/calendar/coral-farmers-market-sponsor-of-the-week-2/
ATTACH;FMTTYPE=image/jpeg:https://dfwmas.org/wp-content/uploads/2022/04/2022-06-04-Dallas-Coral-Show.jpg
END:VEVENT
BEGIN:VEVENT
DTSTART;TZID=America/Chicago:20230621T190000
DTEND;TZID=America/Chicago:20230621T200000
DTSTAMP:20260419T194852
CREATED:20230410T231323Z
LAST-MODIFIED:20230610T220733Z
UID:359183-1687374000-1687377600@dfwmas.org
SUMMARY:Club Mtg feat. Ocean Rescue Alliance International
DESCRIPTION:Wed June 21st 7pm Ocean Rescue Alliance International \nSAVE THE NEW DATE! \nInfo in the website’s Forum Events area. Refer Forum or follow this link: \nhttps://forum.dfwmas.org/index.php?threads/june-21-monthly-mtg-featuring-shelby-of-orai-and-1-000-mermaids-public-thread.46030/#post-343687
URL:https://dfwmas.org/calendar/club-mtg-feat-ocean-rescue-alliance-international/
ATTACH;FMTTYPE=image/jpeg:https://dfwmas.org/wp-content/uploads/2014/10/Coral_reef_locations.jpg
END:VEVENT
BEGIN:VEVENT
DTSTART;TZID=America/Chicago:20230623T190000
DTEND;TZID=America/Chicago:20230623T203000
DTSTAMP:20260419T194852
CREATED:20230530T160518Z
LAST-MODIFIED:20230530T160551Z
UID:359200-1687546800-1687552200@dfwmas.org
SUMMARY:Fish Rave at Odyssey Pets Fish Room
DESCRIPTION:Come out and see club DFWMAS at Odyssey Pets Fish Room! \nFriday June 23rd\n7-8:30pm \nFREE SWAG RESTOCKED! DFWMAS 2-sided water parameter cards are back in stock\, so drop by to pickup your free club swap (water parameter cards and stickers). \nMore info in website Forum. Refer Forum.
URL:https://dfwmas.org/calendar/fish-rave-at-odyssey-pets-fish-room/
ATTACH;FMTTYPE=image/jpeg:https://dfwmas.org/wp-content/uploads/2023/05/2023-06-23-7-830pm-Fish-Rave-at-Odyssey-Pets.jpg
END:VEVENT
BEGIN:VEVENT
DTSTART;VALUE=DATE:20230625
DTEND;VALUE=DATE:20230702
DTSTAMP:20260419T194852
CREATED:20221216T222652Z
LAST-MODIFIED:20221216T222652Z
UID:358968-1687651200-1688255999@dfwmas.org
SUMMARY:AquaFX 'Sponsor of the Week'
DESCRIPTION:June 25-July 1 AquaFX ‘Sponsor of the Week’
URL:https://dfwmas.org/calendar/aquafx-sponsor-of-the-week/
ATTACH;FMTTYPE=image/png:https://dfwmas.org/wp-content/uploads/2022/01/AquaFXLogo-NEW.png
END:VEVENT
BEGIN:VEVENT
DTSTART;VALUE=DATE:20230702
DTEND;VALUE=DATE:20230709
DTSTAMP:20260419T194852
CREATED:20221216T222753Z
LAST-MODIFIED:20221216T222753Z
UID:358970-1688256000-1688860799@dfwmas.org
SUMMARY:Bulk Reef Supply 'Sponsor of the Week'
DESCRIPTION:July 2-8 Bulk Reef Supply ‘Sponsor of the Week’
URL:https://dfwmas.org/calendar/bulk-reef-supply-sponsor-of-the-week-2/
ATTACH;FMTTYPE=image/png:https://dfwmas.org/wp-content/uploads/2016/12/BulkReef400x200.png
END:VEVENT
BEGIN:VEVENT
DTSTART;TZID=America/Chicago:20230708T150000
DTEND;TZID=America/Chicago:20230708T160000
DTSTAMP:20260419T194852
CREATED:20230418T170042Z
LAST-MODIFIED:20230704T151258Z
UID:359188-1688828400-1688832000@dfwmas.org
SUMMARY:Club Gathering & Giveaways - Ocean Avenue
DESCRIPTION:Hobbyist Hangout at Ocean Avenue \nTime 3-4pm – Raffle at 4pm \n6401 S Cooper Road\, Arlington TX 76001 \nClub Gathering & Giveaways being planned at Ocean Avenue on July 8th \nWhen this gets closer\, more information will be available in the website Forum. Refer Forum
URL:https://dfwmas.org/calendar/club-gathering-giveaways-ocean-avenue/
ATTACH;FMTTYPE=image/jpeg:https://dfwmas.org/wp-content/uploads/2019/04/OceanAvenue_050519.jpg
END:VEVENT
BEGIN:VEVENT
DTSTART;VALUE=DATE:20230709
DTEND;VALUE=DATE:20230716
DTSTAMP:20260419T194852
CREATED:20221216T222855Z
LAST-MODIFIED:20221216T222855Z
UID:358972-1688860800-1689465599@dfwmas.org
SUMMARY:Brightwell Aquatics 'Sponsor of the Week'
DESCRIPTION:July 9-15 Brightwell Aquatics ‘Sponsor of the Week’
URL:https://dfwmas.org/calendar/brightwell-aquatics-sponsor-of-the-week-2/
ATTACH;FMTTYPE=image/png:https://dfwmas.org/wp-content/uploads/2016/12/Brightwell400x200.png
END:VEVENT
BEGIN:VEVENT
DTSTART;VALUE=DATE:20230716
DTEND;VALUE=DATE:20230723
DTSTAMP:20260419T194852
CREATED:20221216T222955Z
LAST-MODIFIED:20221216T222955Z
UID:358974-1689465600-1690070399@dfwmas.org
SUMMARY:CaribSea 'Sponsor of the Week'
DESCRIPTION:July 16-22 CaribSea ‘Sponsor of the Week’
URL:https://dfwmas.org/calendar/caribsea-sponsor-of-the-week-2/
ATTACH;FMTTYPE=image/png:https://dfwmas.org/wp-content/uploads/2022/01/CaribSea-Logo-2020-small.png
END:VEVENT
BEGIN:VEVENT
DTSTART;TZID=America/Chicago:20230718T190000
DTEND;TZID=America/Chicago:20230718T200000
DTSTAMP:20260419T194852
CREATED:20230725T180521Z
LAST-MODIFIED:20230725T180521Z
UID:359223-1689706800-1689710400@dfwmas.org
SUMMARY:Club Mtg Ocean Rescue Alliance International and 1000 Mermaids
DESCRIPTION:Club Mtg Ocean Rescue Alliance International and 1000 Mermaids \nMore info in website Forum. Refer Forum or click this link: \n(2) July 18 Monthly Mtg featuring Shelby of ORAI and 1\,000 Mermaids (public thread) | DFWMAS
URL:https://dfwmas.org/calendar/club-mtg-ocean-rescue-alliance-international-and-1000-mermaids/
ATTACH;FMTTYPE=image/jpeg:https://dfwmas.org/wp-content/uploads/2023/07/ORAI-Ocean-Rescue-Alliance-logo-rvsd.jpg
END:VEVENT
BEGIN:VEVENT
DTSTART;TZID=America/Chicago:20230722T110000
DTEND;TZID=America/Chicago:20230722T160000
DTSTAMP:20260419T194852
CREATED:20230107T052220Z
LAST-MODIFIED:20230615T182944Z
UID:359044-1690023600-1690041600@dfwmas.org
SUMMARY:Dallas Coral Farmers Market
DESCRIPTION:This is an outside organization\, but in 2022 Coral Farmers Market let hobby club have a promotional table. \nHere is their 2023 info: \nhttp://www.coralfarmersmarket.com/cfmprotour_dallas_2023.htm
URL:https://dfwmas.org/calendar/dallas-coral-farmers-market-2/
ATTACH;FMTTYPE=image/jpeg:https://dfwmas.org/wp-content/uploads/2023/01/2023-06-Coral-Farmers-Market-Dallas.jpg
END:VEVENT
BEGIN:VEVENT
DTSTART;VALUE=DATE:20230723
DTEND;VALUE=DATE:20230730
DTSTAMP:20260419T194852
CREATED:20221216T223116Z
LAST-MODIFIED:20221216T223116Z
UID:358976-1690070400-1690675199@dfwmas.org
SUMMARY:Cultivated Reef 'Sponsor of the Week'
DESCRIPTION:July 23-29 Cultivated Reef ‘Sponsor of the Week’
URL:https://dfwmas.org/calendar/cultivated-reef-sponsor-of-the-week/
ATTACH;FMTTYPE=image/jpeg:https://dfwmas.org/wp-content/uploads/2022/03/Cultivated-Reef-logo.jpg
END:VEVENT
BEGIN:VEVENT
DTSTART;VALUE=DATE:20230730
DTEND;VALUE=DATE:20230806
DTSTAMP:20260419T194852
CREATED:20221216T223224Z
LAST-MODIFIED:20221216T223224Z
UID:358978-1690675200-1691279999@dfwmas.org
SUMMARY:Dallas World Aquarium 'Sponsor of the Week'
DESCRIPTION:July 30-Aug 5 Dallas World Aquarium ‘Sponsor of the Week’
URL:https://dfwmas.org/calendar/dallas-world-aquarium-sponsor-of-the-week-2/
ATTACH;FMTTYPE=image/gif:https://dfwmas.org/wp-content/uploads/2018/09/DWAlogo.gif
END:VEVENT
BEGIN:VEVENT
DTSTART;TZID=America/Chicago:20260419T194851
DTEND;TZID=America/Chicago:20260419T194851
DTSTAMP:20260419T194852
CREATED:20230320T183619Z
LAST-MODIFIED:20230320T183619Z
UID:359156-1776628131-1776628131@dfwmas.org
SUMMARY:Club Frag Swap
DESCRIPTION:DFWMAS Frag Swap \nBob Duncan Community Center\nArlington TX \nMore info in website Forum when it gets closer
URL:https://dfwmas.org/calendar/club-frag-swap-3/
END:VEVENT
BEGIN:VEVENT
DTSTART;VALUE=DATE:20230806
DTEND;VALUE=DATE:20230813
DTSTAMP:20260419T194852
CREATED:20221216T223333Z
LAST-MODIFIED:20221216T223333Z
UID:358980-1691280000-1691884799@dfwmas.org
SUMMARY:Easy Reefs 'Sponsor of the Week'
DESCRIPTION:Aug 6-12 Easy Reefs ‘Sponsor of the Week’
URL:https://dfwmas.org/calendar/easy-reefs-sponsor-of-the-week-2/
ATTACH;FMTTYPE=image/png:https://dfwmas.org/wp-content/uploads/2022/01/easy-reefs-logo.png
END:VEVENT
BEGIN:VEVENT
DTSTART;TZID=America/Chicago:20230812T100000
DTEND;TZID=America/Chicago:20230812T110000
DTSTAMP:20260419T194852
CREATED:20230113T212732Z
LAST-MODIFIED:20230804T005535Z
UID:359059-1691834400-1691838000@dfwmas.org
SUMMARY:Club Gathering & Raffle - Dallas North Aquarium
DESCRIPTION:August 12th Club Gathering – Dallas North Aquarium LFS \nOur August club ‘Saturday Gathering’ will be August 12th. ‘Gatherings’ are different days than ‘Meetings’ based on 2022 feedback. \n\nClub ‘Saturday Gathering’\nSaturday August 12th\n10am until 11am\nDallas North Aquarium LFS\n2910 E Trinity Mills Rd Carrollton\, TX 75006\n\nFREE RAFFLE at 11am featuring donations by supporters of club! \nMore details\, refer website Forum or use this link: \nAug 12 Gathering and Giveaways at Dallas North Aquarium (public thread) | DFWMAS
URL:https://dfwmas.org/calendar/club-gathering-dallas-north-aquarium/
ATTACH;FMTTYPE=image/png:https://dfwmas.org/wp-content/uploads/2016/12/DallasNorth400x200-1.png
END:VEVENT
BEGIN:VEVENT
DTSTART;VALUE=DATE:20230813
DTEND;VALUE=DATE:20230820
DTSTAMP:20260419T194852
CREATED:20221216T223434Z
LAST-MODIFIED:20221216T223434Z
UID:358982-1691884800-1692489599@dfwmas.org
SUMMARY:Flipper 'Sponsor of the Week'
DESCRIPTION:Aug 13-19 Flipper ‘Sponsor of the Week’
URL:https://dfwmas.org/calendar/flipper-sponsor-of-the-week-2/
ATTACH;FMTTYPE=image/png:https://dfwmas.org/wp-content/uploads/2022/01/flipper-logo.png
END:VEVENT
END:VCALENDAR