BEGIN:VCALENDAR
VERSION:2.0
PRODID:-//DFWMAS - ECPv6.3.4//NONSGML v1.0//EN
CALSCALE:GREGORIAN
METHOD:PUBLISH
X-ORIGINAL-URL:https://dfwmas.org
X-WR-CALDESC:Events for DFWMAS
REFRESH-INTERVAL;VALUE=DURATION:PT1H
X-Robots-Tag:noindex
X-PUBLISHED-TTL:PT1H
BEGIN:VTIMEZONE
TZID:America/Chicago
BEGIN:DAYLIGHT
TZOFFSETFROM:-0600
TZOFFSETTO:-0500
TZNAME:CDT
DTSTART:20260308T080000
END:DAYLIGHT
BEGIN:STANDARD
TZOFFSETFROM:-0500
TZOFFSETTO:-0600
TZNAME:CST
DTSTART:20261101T070000
END:STANDARD
END:VTIMEZONE
BEGIN:VEVENT
DTSTART;TZID=America/Chicago:20260422T053113
DTEND;TZID=America/Chicago:20260422T053113
DTSTAMP:20260422T053113
CREATED:20250319T204257Z
LAST-MODIFIED:20250319T204257Z
UID:359389-1776835873-1776835873@dfwmas.org
SUMMARY:Aquashella Dallas
DESCRIPTION:Tickets are already on sale! More information: \nhttps://aquashella.com/dallas/ \nBe sure to come by the club booth to say “Hi!” and get your free swag\, free magazines and MORE while supplies last! If you’d like to help out the club by volunteering\, you can still sign up here: \nhttps://forum.dfwmas.org/index.php?threads/seeking-club-volunteers-for-aquashella-event-sat-sun-may-17-18.48103/
URL:https://dfwmas.org/calendar/aquashella-dallas-2/
END:VEVENT
END:VCALENDAR