BEGIN:VCALENDAR
VERSION:2.0
PRODID:-//DFWMAS - ECPv6.3.4//NONSGML v1.0//EN
CALSCALE:GREGORIAN
METHOD:PUBLISH
X-ORIGINAL-URL:https://dfwmas.org
X-WR-CALDESC:Events for DFWMAS
REFRESH-INTERVAL;VALUE=DURATION:PT1H
X-Robots-Tag:noindex
X-PUBLISHED-TTL:PT1H
BEGIN:VTIMEZONE
TZID:America/Chicago
BEGIN:DAYLIGHT
TZOFFSETFROM:-0600
TZOFFSETTO:-0500
TZNAME:CDT
DTSTART:20260308T080000
END:DAYLIGHT
BEGIN:STANDARD
TZOFFSETFROM:-0500
TZOFFSETTO:-0600
TZNAME:CST
DTSTART:20261101T070000
END:STANDARD
END:VTIMEZONE
BEGIN:VEVENT
DTSTART;TZID=America/Chicago:20260421T213351
DTEND;TZID=America/Chicago:20260421T213351
DTSTAMP:20260421T213351
CREATED:20240412T212422Z
LAST-MODIFIED:20240510T171739Z
UID:359352-1776807231-1776807231@dfwmas.org
SUMMARY:Glass Aquatics 'Sponsor of the Week'
DESCRIPTION:Please support Glass Aquatics as they are club ‘Sponsor of the Week’ May 20-26 \nCheck out the phytoplankton and copepod line that Glass Aquatics has been developing for the last 15 months and they are debuting the product release at Aquashella \nhttps://www.facebook.com/GlassAquatics/ \nGlass Aquatics (@glassaquatics) • Instagram photos and videos \nYour top source for fish and aquarium supplies. – Glass Aquatics (shoplightspeed.com) \n 
URL:https://dfwmas.org/calendar/glass-aquatics-sponsor-of-the-week-4/
END:VEVENT
END:VCALENDAR