BEGIN:VCALENDAR
VERSION:2.0
PRODID:-//DFWMAS - ECPv6.3.4//NONSGML v1.0//EN
CALSCALE:GREGORIAN
METHOD:PUBLISH
X-WR-CALNAME:DFWMAS
X-ORIGINAL-URL:https://dfwmas.org
X-WR-CALDESC:Events for DFWMAS
REFRESH-INTERVAL;VALUE=DURATION:PT1H
X-Robots-Tag:noindex
X-PUBLISHED-TTL:PT1H
BEGIN:VTIMEZONE
TZID:America/Chicago
BEGIN:DAYLIGHT
TZOFFSETFROM:-0600
TZOFFSETTO:-0500
TZNAME:CDT
DTSTART:20240310T080000
END:DAYLIGHT
BEGIN:STANDARD
TZOFFSETFROM:-0500
TZOFFSETTO:-0600
TZNAME:CST
DTSTART:20241103T070000
END:STANDARD
BEGIN:DAYLIGHT
TZOFFSETFROM:-0600
TZOFFSETTO:-0500
TZNAME:CDT
DTSTART:20250309T080000
END:DAYLIGHT
BEGIN:STANDARD
TZOFFSETFROM:-0500
TZOFFSETTO:-0600
TZNAME:CST
DTSTART:20251102T070000
END:STANDARD
BEGIN:DAYLIGHT
TZOFFSETFROM:-0600
TZOFFSETTO:-0500
TZNAME:CDT
DTSTART:20260308T080000
END:DAYLIGHT
BEGIN:STANDARD
TZOFFSETFROM:-0500
TZOFFSETTO:-0600
TZNAME:CST
DTSTART:20261101T070000
END:STANDARD
END:VTIMEZONE
BEGIN:VEVENT
DTSTART;TZID=America/Chicago:20260421T213400
DTEND;TZID=America/Chicago:20260421T213400
DTSTAMP:20260421T213400
CREATED:20240412T193752Z
LAST-MODIFIED:20240412T193752Z
UID:359350-1776807240-1776807240@dfwmas.org
SUMMARY:Aquashella 'Sponsor of the Week'
DESCRIPTION:Please support Aquashella as they are club ‘Sponsor of the Week’ May 13-19 \nBe sure to get your tickets here: \nAquashella Dallas – Aquashella \nMore information is: \nhttps://www.facebook.com/aquashellafest/ \nAquashella Aquarium Festival (@aquashella) • Instagram photos and videos \nStop by and say “Hi!” and get your club FREE SWAG while supplies last – you’ll find club: \nhobby club DFWMAS – Dallas Fort Worth Marine Aquarium Society – Aquashelladallas2024 – Dallas Market Hall | May 18–19\, 2024 | Saturday – Sunday – Expo Floor Plan by ExpoFP \n  \n 
URL:https://dfwmas.org/calendar/aquashella-sponsor-of-the-week/
END:VEVENT
BEGIN:VEVENT
DTSTART;VALUE=DATE:20240518
DTEND;VALUE=DATE:20240520
DTSTAMP:20260421T213400
CREATED:20240116T151517Z
LAST-MODIFIED:20240116T151517Z
UID:359312-1715990400-1716163199@dfwmas.org
SUMMARY:Aquashella Dallas
DESCRIPTION:May 18 & 19 \nhttps://forum.dfwmas.org/index.php?threads/aquashella-volunteers-may-18-and-19-to-help-club-table-and-event-itself-sign-up-thread.46265/
URL:https://dfwmas.org/calendar/aquashella-dallas/
ATTACH;FMTTYPE=image/jpeg:https://dfwmas.org/wp-content/uploads/2024/01/Aquashella-2024-dates-Texas-May-18-19.jpg
END:VEVENT
END:VCALENDAR