BEGIN:VCALENDAR
VERSION:2.0
PRODID:-//DFWMAS - ECPv6.3.4//NONSGML v1.0//EN
CALSCALE:GREGORIAN
METHOD:PUBLISH
X-WR-CALNAME:DFWMAS
X-ORIGINAL-URL:https://dfwmas.org
X-WR-CALDESC:Events for DFWMAS
REFRESH-INTERVAL;VALUE=DURATION:PT1H
X-Robots-Tag:noindex
X-PUBLISHED-TTL:PT1H
BEGIN:VTIMEZONE
TZID:America/Chicago
BEGIN:DAYLIGHT
TZOFFSETFROM:-0600
TZOFFSETTO:-0500
TZNAME:CDT
DTSTART:20240310T080000
END:DAYLIGHT
BEGIN:STANDARD
TZOFFSETFROM:-0500
TZOFFSETTO:-0600
TZNAME:CST
DTSTART:20241103T070000
END:STANDARD
END:VTIMEZONE
BEGIN:VEVENT
DTSTART;TZID=America/Chicago:20240429T000000
DTEND;TZID=America/Chicago:20240505T235900
DTSTAMP:20260421T175412
CREATED:20240412T163410Z
LAST-MODIFIED:20240412T163453Z
UID:359345-1714348800-1714953540@dfwmas.org
SUMMARY:Ocean Avenue 'Sponsor of the Week'
DESCRIPTION:Please support Ocean Avenue as they are club ‘Sponsor of the Week’ April 29-May 5 \nAlso check out the club’s Gathering and Giveaways held May 4th at Ocean Avenue during their annual blowout Cinco de Mayo celebration!! \nOcean Avenue Texas :: Aquatic Specialists \nOcean Avenue (@oceanavenuecorals) • Instagram photos and videos \nhttps://www.facebook.com/oceanaveaquaticstx/ \nCross promoting the club event during this Sponsor Week\, check out: \nMay 4 Gathering and Giveaways Ocean Avenue (public thread) | DFWMAS \n 
URL:https://dfwmas.org/calendar/ocean-avenue-sponsor-of-the-week-3/
ATTACH;FMTTYPE=image/png:https://dfwmas.org/wp-content/uploads/2024/04/ocean-ave-419x309-1.png
END:VEVENT
END:VCALENDAR