BEGIN:VCALENDAR
VERSION:2.0
PRODID:-//DFWMAS - ECPv6.3.4//NONSGML v1.0//EN
CALSCALE:GREGORIAN
METHOD:PUBLISH
X-ORIGINAL-URL:https://dfwmas.org
X-WR-CALDESC:Events for DFWMAS
REFRESH-INTERVAL;VALUE=DURATION:PT1H
X-Robots-Tag:noindex
X-PUBLISHED-TTL:PT1H
BEGIN:VTIMEZONE
TZID:America/Chicago
BEGIN:DAYLIGHT
TZOFFSETFROM:-0600
TZOFFSETTO:-0500
TZNAME:CDT
DTSTART:20240310T080000
END:DAYLIGHT
BEGIN:STANDARD
TZOFFSETFROM:-0500
TZOFFSETTO:-0600
TZNAME:CST
DTSTART:20241103T070000
END:STANDARD
END:VTIMEZONE
BEGIN:VEVENT
DTSTART;VALUE=DATE:20240408
DTEND;VALUE=DATE:20240415
DTSTAMP:20260421T175530
CREATED:20240411T233749Z
LAST-MODIFIED:20240411T233749Z
UID:359336-1712534400-1713139199@dfwmas.org
SUMMARY:Robert's Reef 'Sponsor of the Week'
DESCRIPTION:Robert’s Reef ‘Sponsor of the Week’ \nIt is also their anniversary week\, so be sure to check out this wonderful sponsor LFS! \nRoberts Reef | Salt Water Aquarium Supplies and Livestock Fort Worth \nhttps://www.facebook.com/Ro63rts.R33F/ \n  \n 
URL:https://dfwmas.org/calendar/roberts-reef-sponsor-of-the-week-3/
ATTACH;FMTTYPE=image/png:https://dfwmas.org/wp-content/uploads/2022/02/robertsreef-logo.png
END:VEVENT
END:VCALENDAR