BEGIN:VCALENDAR
VERSION:2.0
PRODID:-//DFWMAS - ECPv6.3.4//NONSGML v1.0//EN
CALSCALE:GREGORIAN
METHOD:PUBLISH
X-WR-CALNAME:DFWMAS
X-ORIGINAL-URL:https://dfwmas.org
X-WR-CALDESC:Events for DFWMAS
REFRESH-INTERVAL;VALUE=DURATION:PT1H
X-Robots-Tag:noindex
X-PUBLISHED-TTL:PT1H
BEGIN:VTIMEZONE
TZID:America/Chicago
BEGIN:DAYLIGHT
TZOFFSETFROM:-0600
TZOFFSETTO:-0500
TZNAME:CDT
DTSTART:20240310T080000
END:DAYLIGHT
BEGIN:STANDARD
TZOFFSETFROM:-0500
TZOFFSETTO:-0600
TZNAME:CST
DTSTART:20241103T070000
END:STANDARD
END:VTIMEZONE
BEGIN:VEVENT
DTSTART;TZID=America/Chicago:20240309T080000
DTEND;TZID=America/Chicago:20240309T163000
DTSTAMP:20260421T161127
CREATED:20230315T194641Z
LAST-MODIFIED:20230315T194755Z
UID:359139-1709971200-1710001800@dfwmas.org
SUMMARY:Club Frag Swap
DESCRIPTION:SAVE THE DATE! \nBob Duncan Community Center in Arlington fills up fast !! \nDeposit made 12 months in advance to hold this date… when it gets closer\, info will first show up in website Forum under Events. Refer Forum (when it gets closer)
URL:https://dfwmas.org/calendar/club-frag-swap-2/
ATTACH;FMTTYPE=image/jpeg:https://dfwmas.org/wp-content/uploads/2019/02/FragSwap.jpg
END:VEVENT
END:VCALENDAR