BEGIN:VCALENDAR
VERSION:2.0
PRODID:-//DFWMAS - ECPv6.3.4//NONSGML v1.0//EN
CALSCALE:GREGORIAN
METHOD:PUBLISH
X-WR-CALNAME:DFWMAS
X-ORIGINAL-URL:https://dfwmas.org
X-WR-CALDESC:Events for DFWMAS
REFRESH-INTERVAL;VALUE=DURATION:PT1H
X-Robots-Tag:noindex
X-PUBLISHED-TTL:PT1H
BEGIN:VTIMEZONE
TZID:America/Chicago
BEGIN:DAYLIGHT
TZOFFSETFROM:-0600
TZOFFSETTO:-0500
TZNAME:CDT
DTSTART:20240310T080000
END:DAYLIGHT
BEGIN:STANDARD
TZOFFSETFROM:-0500
TZOFFSETTO:-0600
TZNAME:CST
DTSTART:20241103T070000
END:STANDARD
END:VTIMEZONE
BEGIN:VEVENT
DTSTART;TZID=America/Chicago:20240120T160000
DTEND;TZID=America/Chicago:20240120T170000
DTSTAMP:20260421T082247
CREATED:20240107T160851Z
LAST-MODIFIED:20240107T160851Z
UID:359296-1705766400-1705770000@dfwmas.org
SUMMARY:Club Gathering & Giveaways - Salgado Exotics (new location)
DESCRIPTION:January 20th Club Gathering – Salgado Exotics LFS \nOur January club ‘Saturday Gathering’ will be January 20th. ‘Gatherings’ are different days than ‘Meetings’ based on 2022 feedback\, and seemed to work well in 2023. \n\nClub ‘Saturday Gathering and Giveaways’\nSaturday January 20th\ntime 4-5pm\nSalgado Exotics NEW NAME (LFS)\n1900 Oates Drive Mesquite TX 75150 NEW LOCATION\n\nFREE RAFFLE featuring multiple product donations!! SAVE THE DATE!! \nFor more information\, go to link: https://forum.dfwmas.org/index.php?threads/jan-20-gathering-and-giveaways-at-salgado-exotics-public-thread.46720/
URL:https://dfwmas.org/calendar/club-gathering-giveaways-salgado-exotics-new-location/
ATTACH;FMTTYPE=image/png:https://dfwmas.org/wp-content/uploads/2024/01/Salgado-Exotics-logo-2023-December.png
END:VEVENT
END:VCALENDAR