BEGIN:VCALENDAR
VERSION:2.0
PRODID:-//DFWMAS - ECPv6.3.4//NONSGML v1.0//EN
CALSCALE:GREGORIAN
METHOD:PUBLISH
X-ORIGINAL-URL:https://dfwmas.org
X-WR-CALDESC:Events for DFWMAS
REFRESH-INTERVAL;VALUE=DURATION:PT1H
X-Robots-Tag:noindex
X-PUBLISHED-TTL:PT1H
BEGIN:VTIMEZONE
TZID:America/Chicago
BEGIN:DAYLIGHT
TZOFFSETFROM:-0600
TZOFFSETTO:-0500
TZNAME:CDT
DTSTART:20230312T080000
END:DAYLIGHT
BEGIN:STANDARD
TZOFFSETFROM:-0500
TZOFFSETTO:-0600
TZNAME:CST
DTSTART:20231105T070000
END:STANDARD
END:VTIMEZONE
BEGIN:VEVENT
DTSTART;VALUE=DATE:20230924
DTEND;VALUE=DATE:20231001
DTSTAMP:20260422T035453
CREATED:20221216T224110Z
LAST-MODIFIED:20221216T230034Z
UID:358995-1695513600-1696118399@dfwmas.org
SUMMARY:Poseidon Reef Systems 'Sponsor of the Week'
DESCRIPTION:Sept 24-30 Poseidon Reef Systems ‘Sponsor of the Week’
URL:https://dfwmas.org/calendar/poseidon-reef-systems-sponsor-of-the-week-2/
ATTACH;FMTTYPE=image/jpeg:https://dfwmas.org/wp-content/uploads/2022/02/Poseidon-Reef-Systems.jpg
END:VEVENT
BEGIN:VEVENT
DTSTART;TZID=America/Chicago:20230930T150000
DTEND;TZID=America/Chicago:20230930T160000
DTSTAMP:20260422T035453
CREATED:20230817T191250Z
LAST-MODIFIED:20230817T191250Z
UID:359246-1696086000-1696089600@dfwmas.org
SUMMARY:Club Gathering & Raffle - Glass Aquatics
DESCRIPTION:September 30th Club Gathering – Glass Aquatics LFS \nOur September club ‘Saturday Gathering’ will be September 30th. ‘Gatherings’ are different days than ‘Meetings’ based on 2022 feedback. \n\nClub ‘Saturday Gathering and Giveaways’\nSaturday September 30th\n3pm until 4pm\nGlass Aquatics Local Fish Store (LFS)\n522 W Harwood Road in Hurst TX 76054\n\nFREE RAFFLE at 4pm featuring multiple product donations!! \nFor more info\, refer website Forum. Refer Forum or use this below link: \nhttps://forum.dfwmas.org/index.php?threads/sept-30-gathering-and-giveaways-at-glass-aquatics-public-thread.46295/
URL:https://dfwmas.org/calendar/club-gathering-raffle-glass-aquatics/
ATTACH;FMTTYPE=image/png:https://dfwmas.org/wp-content/uploads/2020/04/Glass-Aquatics-Logo-Watermark-with-Name-Moto.png
END:VEVENT
END:VCALENDAR