BEGIN:VCALENDAR
VERSION:2.0
PRODID:-//DFWMAS - ECPv6.3.4//NONSGML v1.0//EN
CALSCALE:GREGORIAN
METHOD:PUBLISH
X-ORIGINAL-URL:https://dfwmas.org
X-WR-CALDESC:Events for DFWMAS
REFRESH-INTERVAL;VALUE=DURATION:PT1H
X-Robots-Tag:noindex
X-PUBLISHED-TTL:PT1H
BEGIN:VTIMEZONE
TZID:America/Chicago
BEGIN:DAYLIGHT
TZOFFSETFROM:-0600
TZOFFSETTO:-0500
TZNAME:CDT
DTSTART:20230312T080000
END:DAYLIGHT
BEGIN:STANDARD
TZOFFSETFROM:-0500
TZOFFSETTO:-0600
TZNAME:CST
DTSTART:20231105T070000
END:STANDARD
END:VTIMEZONE
BEGIN:VEVENT
DTSTART;VALUE=DATE:20230903
DTEND;VALUE=DATE:20230910
DTSTAMP:20260421T052337
CREATED:20221216T223747Z
LAST-MODIFIED:20221216T223747Z
UID:358989-1693699200-1694303999@dfwmas.org
SUMMARY:JBJ 'Sponsor of the Week'
DESCRIPTION:Sept 3-9 JBJ ‘Sponsor of the Week’
URL:https://dfwmas.org/calendar/jbj-sponsor-of-the-week-2/
ATTACH;FMTTYPE=image/png:https://dfwmas.org/wp-content/uploads/2022/04/jbj_logo@038x.png
END:VEVENT
BEGIN:VEVENT
DTSTART;VALUE=DATE:20230908
DTEND;VALUE=DATE:20230911
DTSTAMP:20260421T052337
CREATED:20221014T182842Z
LAST-MODIFIED:20230228T192854Z
UID:358842-1694131200-1694390399@dfwmas.org
SUMMARY:MACNA 2023 - cancelled
DESCRIPTION:Breaking news on 2/28/2023 – MACNA cancelled – Reef Builder has article: \n\nMASNA announces the cancellation of MACNA 2023 \n\n******* \nPittsburgh PA for MACNA 2023 – who all is going? Please post info over in our website Forum so people can meet up! \nInfo here: \nhttps://macna.org/macna2023/ \nhttps://macna.org/macna2023/
URL:https://dfwmas.org/calendar/macna-2023/
ATTACH;FMTTYPE=image/jpeg:https://dfwmas.org/wp-content/uploads/2022/10/MACNA-2023-Sept-8-10-Pittsburg-PA.jpg
END:VEVENT
END:VCALENDAR