BEGIN:VCALENDAR
VERSION:2.0
PRODID:-//DFWMAS - ECPv6.3.4//NONSGML v1.0//EN
CALSCALE:GREGORIAN
METHOD:PUBLISH
X-ORIGINAL-URL:https://dfwmas.org
X-WR-CALDESC:Events for DFWMAS
REFRESH-INTERVAL;VALUE=DURATION:PT1H
X-Robots-Tag:noindex
X-PUBLISHED-TTL:PT1H
BEGIN:VTIMEZONE
TZID:America/Chicago
BEGIN:DAYLIGHT
TZOFFSETFROM:-0600
TZOFFSETTO:-0500
TZNAME:CDT
DTSTART:20230312T080000
END:DAYLIGHT
BEGIN:STANDARD
TZOFFSETFROM:-0500
TZOFFSETTO:-0600
TZNAME:CST
DTSTART:20231105T070000
END:STANDARD
END:VTIMEZONE
BEGIN:VEVENT
DTSTART;VALUE=DATE:20230813
DTEND;VALUE=DATE:20230820
DTSTAMP:20260421T051710
CREATED:20221216T223434Z
LAST-MODIFIED:20221216T223434Z
UID:358982-1691884800-1692489599@dfwmas.org
SUMMARY:Flipper 'Sponsor of the Week'
DESCRIPTION:Aug 13-19 Flipper ‘Sponsor of the Week’
URL:https://dfwmas.org/calendar/flipper-sponsor-of-the-week-2/
ATTACH;FMTTYPE=image/png:https://dfwmas.org/wp-content/uploads/2022/01/flipper-logo.png
END:VEVENT
BEGIN:VEVENT
DTSTART;TZID=America/Chicago:20230817T190000
DTEND;TZID=America/Chicago:20230817T200000
DTSTAMP:20260421T051710
CREATED:20230804T005820Z
LAST-MODIFIED:20230804T005820Z
UID:359243-1692298800-1692302400@dfwmas.org
SUMMARY:Club Mtg featuring TUNZE
DESCRIPTION:DFWMAS August Mtg featuring Roger Vitko of TUNZE\nThursday Aug 17 at 7:00 PM Central Time \nMore Info: \nAug 17 Club Mtg featuring Roger Vitko of TUNZE (public thread) | DFWMAS
URL:https://dfwmas.org/calendar/club-mtg-featuring-tunze/
ATTACH;FMTTYPE=image/jpeg:https://dfwmas.org/wp-content/uploads/2023/03/csm_Logo_Tunze_2020_2__7722c40ddd.jpg
END:VEVENT
END:VCALENDAR