BEGIN:VCALENDAR
VERSION:2.0
PRODID:-//DFWMAS - ECPv6.3.4//NONSGML v1.0//EN
CALSCALE:GREGORIAN
METHOD:PUBLISH
X-ORIGINAL-URL:https://dfwmas.org
X-WR-CALDESC:Events for DFWMAS
REFRESH-INTERVAL;VALUE=DURATION:PT1H
X-Robots-Tag:noindex
X-PUBLISHED-TTL:PT1H
BEGIN:VTIMEZONE
TZID:America/Chicago
BEGIN:DAYLIGHT
TZOFFSETFROM:-0600
TZOFFSETTO:-0500
TZNAME:CDT
DTSTART:20230312T080000
END:DAYLIGHT
BEGIN:STANDARD
TZOFFSETFROM:-0500
TZOFFSETTO:-0600
TZNAME:CST
DTSTART:20231105T070000
END:STANDARD
END:VTIMEZONE
BEGIN:VEVENT
DTSTART;VALUE=DATE:20230716
DTEND;VALUE=DATE:20230723
DTSTAMP:20260419T083510
CREATED:20221216T222955Z
LAST-MODIFIED:20221216T222955Z
UID:358974-1689465600-1690070399@dfwmas.org
SUMMARY:CaribSea 'Sponsor of the Week'
DESCRIPTION:July 16-22 CaribSea ‘Sponsor of the Week’
URL:https://dfwmas.org/calendar/caribsea-sponsor-of-the-week-2/
ATTACH;FMTTYPE=image/png:https://dfwmas.org/wp-content/uploads/2022/01/CaribSea-Logo-2020-small.png
END:VEVENT
BEGIN:VEVENT
DTSTART;TZID=America/Chicago:20230718T190000
DTEND;TZID=America/Chicago:20230718T200000
DTSTAMP:20260419T083510
CREATED:20230725T180521Z
LAST-MODIFIED:20230725T180521Z
UID:359223-1689706800-1689710400@dfwmas.org
SUMMARY:Club Mtg Ocean Rescue Alliance International and 1000 Mermaids
DESCRIPTION:Club Mtg Ocean Rescue Alliance International and 1000 Mermaids \nMore info in website Forum. Refer Forum or click this link: \n(2) July 18 Monthly Mtg featuring Shelby of ORAI and 1\,000 Mermaids (public thread) | DFWMAS
URL:https://dfwmas.org/calendar/club-mtg-ocean-rescue-alliance-international-and-1000-mermaids/
ATTACH;FMTTYPE=image/jpeg:https://dfwmas.org/wp-content/uploads/2023/07/ORAI-Ocean-Rescue-Alliance-logo-rvsd.jpg
END:VEVENT
END:VCALENDAR