BEGIN:VCALENDAR
VERSION:2.0
PRODID:-//DFWMAS - ECPv6.3.4//NONSGML v1.0//EN
CALSCALE:GREGORIAN
METHOD:PUBLISH
X-ORIGINAL-URL:https://dfwmas.org
X-WR-CALDESC:Events for DFWMAS
REFRESH-INTERVAL;VALUE=DURATION:PT1H
X-Robots-Tag:noindex
X-PUBLISHED-TTL:PT1H
BEGIN:VTIMEZONE
TZID:America/Chicago
BEGIN:DAYLIGHT
TZOFFSETFROM:-0600
TZOFFSETTO:-0500
TZNAME:CDT
DTSTART:20230312T080000
END:DAYLIGHT
BEGIN:STANDARD
TZOFFSETFROM:-0500
TZOFFSETTO:-0600
TZNAME:CST
DTSTART:20231105T070000
END:STANDARD
END:VTIMEZONE
BEGIN:VEVENT
DTSTART;VALUE=DATE:20230423
DTEND;VALUE=DATE:20230430
DTSTAMP:20260422T035324
CREATED:20221216T221414Z
LAST-MODIFIED:20230406T143751Z
UID:358948-1682208000-1682812799@dfwmas.org
SUMMARY:TUNZE USA 'Sponsor of the Week'
DESCRIPTION:April 23-29 TUNZE USA ‘Sponsor of the Week’ \nhttps://www.tunze.com/US/en.html
URL:https://dfwmas.org/calendar/salgado-aquatics-sponsor-of-the-week-2/
ATTACH;FMTTYPE=image/jpeg:https://dfwmas.org/wp-content/uploads/2023/03/csm_Logo_Tunze_2020_2__7722c40ddd.jpg
END:VEVENT
BEGIN:VEVENT
DTSTART;TZID=America/Chicago:20230429T083000
DTEND;TZID=America/Chicago:20230429T171000
DTSTAMP:20260422T035324
CREATED:20230205T221411Z
LAST-MODIFIED:20230210T175431Z
UID:359097-1682757000-1682788200@dfwmas.org
SUMMARY:5 LFS Bus Tour
DESCRIPTION:Spring 2023 Bus Tour – North DFW Metroplex Five LFS Tour \nFREE EVENT \nDetails\, refer website Forum. \nSave The Date Announcement\, go: \nhttps://forum.dfwmas.org/index.php?threads/spring-bus-tour-april-29th-save-the-date-announcement-general.45555/#post-342037 \nhttps://forum.dfwmas.org/index.php?threads/spring-bus-tour-april-29th-save-the-date-announcement-general.45555/#post-342037
URL:https://dfwmas.org/calendar/placeholder-9-5/
ATTACH;FMTTYPE=image/png:https://dfwmas.org/wp-content/uploads/2022/02/DFWMAS-excited-school-bus-graphic.png
END:VEVENT
END:VCALENDAR