BEGIN:VCALENDAR
VERSION:2.0
PRODID:-//DFWMAS - ECPv6.3.4//NONSGML v1.0//EN
CALSCALE:GREGORIAN
METHOD:PUBLISH
X-ORIGINAL-URL:https://dfwmas.org
X-WR-CALDESC:Events for DFWMAS
REFRESH-INTERVAL;VALUE=DURATION:PT1H
X-Robots-Tag:noindex
X-PUBLISHED-TTL:PT1H
BEGIN:VTIMEZONE
TZID:America/Chicago
BEGIN:DAYLIGHT
TZOFFSETFROM:-0600
TZOFFSETTO:-0500
TZNAME:CDT
DTSTART:20230312T080000
END:DAYLIGHT
BEGIN:STANDARD
TZOFFSETFROM:-0500
TZOFFSETTO:-0600
TZNAME:CST
DTSTART:20231105T070000
END:STANDARD
END:VTIMEZONE
BEGIN:VEVENT
DTSTART;VALUE=DATE:20230409
DTEND;VALUE=DATE:20230416
DTSTAMP:20260422T035407
CREATED:20221216T221218Z
LAST-MODIFIED:20221216T221218Z
UID:358944-1680998400-1681603199@dfwmas.org
SUMMARY:Melev's Reef 'Sponsor of the Week'
DESCRIPTION:April 9-15 Melev’s Reef ‘Sponsor of the Week’
URL:https://dfwmas.org/calendar/melevs-reef-sponsor-of-the-week-3/
ATTACH;FMTTYPE=image/jpeg:https://dfwmas.org/wp-content/uploads/2016/12/melevs.jpg
END:VEVENT
BEGIN:VEVENT
DTSTART;TZID=America/Chicago:20230412T190000
DTEND;TZID=America/Chicago:20230412T200000
DTSTAMP:20260422T035407
CREATED:20221216T235421Z
LAST-MODIFIED:20221216T235421Z
UID:359026-1681326000-1681329600@dfwmas.org
SUMMARY:April Club Mtg - Photography by Marc Levenson
DESCRIPTION:More info in Forum: \nhttps://forum.dfwmas.org/index.php?threads/april-12-club-mtg-aquarium-photography-by-marc-levenson-of-melevs-reef-public-thread.45327/#post-341306 \nhttps://forum.dfwmas.org/index.php?threads/april-12-club-mtg-aquarium-photography-by-marc-levenson-of-melevs-reef-public-thread.45327/#post-341306 \nTopic: dfwmas meeting – Reef Photography by Marc Levenson of Melev’s Reef\nTime: Apr 12\, 2023 07:00 PM Central Time (US and Canada) \nJoin Zoom Meeting – ZOOM ONLY \nhttps://us06web.zoom.us/j/87439874768?pwd=QlpnaGZab2dUYUxXa0daSGZINlZHQT09 \nMeeting ID: 874 3987 4768\nPasscode: 006549 \nOne tap mobile\n+13462487799\,\,87439874768#\,\,\,\,*006549# US (Houston)\n+16694449171\,\,87439874768#\,\,\,\,*006549# US \nDial by your location\n+1 346 248 7799 US (Houston)\n+1 669 444 9171 US\n+1 719 359 4580 US\n+1 720 707 2699 US (Denver)\n+1 253 205 0468 US\n+1 253 215 8782 US (Tacoma)\n+1 564 217 2000 US\n+1 646 558 8656 US (New York)\n+1 646 931 3860 US\n+1 689 278 1000 US\n+1 301 715 8592 US (Washington DC)\n+1 305 224 1968 US\n+1 309 205 3325 US\n+1 312 626 6799 US (Chicago)\n+1 360 209 5623 US\n+1 386 347 5053 US\n+1 507 473 4847 US \nMeeting ID: 874 3987 4768\nPasscode: 006549 \nFind your local number: https://us06web.zoom.us/u/kbMcWP5VSy
URL:https://dfwmas.org/calendar/april-club-mtg-photography-by-marc-levenson/
ATTACH;FMTTYPE=image/jpeg:https://dfwmas.org/wp-content/uploads/2022/12/2023-04-April-Marc-on-Photography.jpg
END:VEVENT
END:VCALENDAR