BEGIN:VCALENDAR
VERSION:2.0
PRODID:-//DFWMAS - ECPv6.3.4//NONSGML v1.0//EN
CALSCALE:GREGORIAN
METHOD:PUBLISH
X-ORIGINAL-URL:https://dfwmas.org
X-WR-CALDESC:Events for DFWMAS
REFRESH-INTERVAL;VALUE=DURATION:PT1H
X-Robots-Tag:noindex
X-PUBLISHED-TTL:PT1H
BEGIN:VTIMEZONE
TZID:America/Chicago
BEGIN:DAYLIGHT
TZOFFSETFROM:-0600
TZOFFSETTO:-0500
TZNAME:CDT
DTSTART:20230312T080000
END:DAYLIGHT
BEGIN:STANDARD
TZOFFSETFROM:-0500
TZOFFSETTO:-0600
TZNAME:CST
DTSTART:20231105T070000
END:STANDARD
END:VTIMEZONE
BEGIN:VEVENT
DTSTART;VALUE=DATE:20230226
DTEND;VALUE=DATE:20230305
DTSTAMP:20260422T053216
CREATED:20221216T215847Z
LAST-MODIFIED:20230122T014052Z
UID:358922-1677369600-1677974399@dfwmas.org
SUMMARY:Turbo's Aquatics 'Sponsor of the Week'
DESCRIPTION:Turbo’s Aquatics ‘Sponsor of the Week’
URL:https://dfwmas.org/calendar/turbos-aquatics-sponsor-of-the-week/
ATTACH;FMTTYPE=image/png:https://dfwmas.org/wp-content/uploads/2022/12/Turbos-Aquatics-2-Color-Logo-spread-300x118-1.png
END:VEVENT
BEGIN:VEVENT
DTSTART;TZID=America/Chicago:20230304T110000
DTEND;TZID=America/Chicago:20230304T160000
DTSTAMP:20260422T053216
CREATED:20230114T015710Z
LAST-MODIFIED:20230121T160448Z
UID:359071-1677927600-1677945600@dfwmas.org
SUMMARY:EXPO - DFWAA Freshwater Affiliate Club
DESCRIPTION:EXPO – DFWAA Freshwater Affiliate Club \n  \nIrving Hotel – More info at: \nhttps://www.facebook.com/groups/1692793200850866
URL:https://dfwmas.org/calendar/expo-dfwaa-freshwater-affiliate-club/
ATTACH;FMTTYPE=image/png:https://dfwmas.org/wp-content/uploads/2023/01/dfwaa-logo.png
END:VEVENT
END:VCALENDAR