BEGIN:VCALENDAR
VERSION:2.0
PRODID:-//DFWMAS - ECPv6.3.4//NONSGML v1.0//EN
CALSCALE:GREGORIAN
METHOD:PUBLISH
X-WR-CALNAME:DFWMAS
X-ORIGINAL-URL:https://dfwmas.org
X-WR-CALDESC:Events for DFWMAS
REFRESH-INTERVAL;VALUE=DURATION:PT1H
X-Robots-Tag:noindex
X-PUBLISHED-TTL:PT1H
BEGIN:VTIMEZONE
TZID:America/Chicago
BEGIN:DAYLIGHT
TZOFFSETFROM:-0600
TZOFFSETTO:-0500
TZNAME:CDT
DTSTART:20230312T080000
END:DAYLIGHT
BEGIN:STANDARD
TZOFFSETFROM:-0500
TZOFFSETTO:-0600
TZNAME:CST
DTSTART:20231105T070000
END:STANDARD
END:VTIMEZONE
BEGIN:VEVENT
DTSTART;VALUE=DATE:20230115
DTEND;VALUE=DATE:20230122
DTSTAMP:20260419T100110
CREATED:20221216T215542Z
LAST-MODIFIED:20221216T215542Z
UID:358918-1673740800-1674345599@dfwmas.org
SUMMARY:Reef Nutrition 'Sponsor of the Week'
DESCRIPTION:Jan 15-21 Reef Nutrition ‘Sponsor of the Week’
URL:https://dfwmas.org/calendar/reef-nutrition-sponsor-of-the-week-2/
ATTACH;FMTTYPE=image/png:https://dfwmas.org/wp-content/uploads/2016/12/reef-nutrition400x200.png
END:VEVENT
BEGIN:VEVENT
DTSTART;TZID=America/Chicago:20230118T190000
DTEND;TZID=America/Chicago:20230118T200000
DTSTAMP:20260419T100110
CREATED:20221216T190908Z
LAST-MODIFIED:20221216T190908Z
UID:358909-1674068400-1674072000@dfwmas.org
SUMMARY:Jan Club Mtg & $100 Giveaway
DESCRIPTION:More info in Forum: \nhttps://forum.dfwmas.org/index.php?threads/jan-18th-club-meeting-chad-clayton-of-reef-nutrition-on-foods-pods-and-more-public-thread.45319/ \nTopic: dfwmas Jan Meeting – Reef Nutrition with Chad Clayton and $100 Gift Certificate Giveaway\nTime: Dec 16\, 2022 07:00 PM Central Time (US and Canada) \nJoin Zoom Meeting \nhttps://us06web.zoom.us/j/84583657697?pwd=NWVPOHRhQkRoSTRKR1IrdEpyU3Fydz09 \nMeeting ID: 845 8365 7697\nPasscode: 784821 \nOne tap mobile\n+13462487799\,\,84583657697#\,\,\,\,*784821# US (Houston)\n+17193594580\,\,84583657697#\,\,\,\,*784821# US \nDial by your location\n+1 346 248 7799 US (Houston)\n+1 719 359 4580 US\n+1 720 707 2699 US (Denver)\n+1 253 205 0468 US\n+1 253 215 8782 US (Tacoma)\n+1 669 444 9171 US\n+1 301 715 8592 US (Washington DC)\n+1 305 224 1968 US\n+1 309 205 3325 US\n+1 312 626 6799 US (Chicago)\n+1 360 209 5623 US\n+1 386 347 5053 US\n+1 507 473 4847 US\n+1 564 217 2000 US\n+1 646 558 8656 US (New York)\n+1 646 931 3860 US\n+1 689 278 1000 US \nMeeting ID: 845 8365 7697\nPasscode: 784821 \nFind your local number: https://us06web.zoom.us/u/kcFx4vWmMi
URL:https://dfwmas.org/calendar/jan-club-mtg-100-giveaway/
ATTACH;FMTTYPE=image/jpeg:https://dfwmas.org/wp-content/uploads/2022/12/2023-01-January-Meeting-with-Chad-Clayton-of-Reef-Nutrition.jpg
END:VEVENT
END:VCALENDAR