BEGIN:VCALENDAR
VERSION:2.0
PRODID:-//DFWMAS - ECPv6.3.4//NONSGML v1.0//EN
CALSCALE:GREGORIAN
METHOD:PUBLISH
X-WR-CALNAME:DFWMAS
X-ORIGINAL-URL:https://dfwmas.org
X-WR-CALDESC:Events for DFWMAS
REFRESH-INTERVAL;VALUE=DURATION:PT1H
X-Robots-Tag:noindex
X-PUBLISHED-TTL:PT1H
BEGIN:VTIMEZONE
TZID:America/Chicago
BEGIN:DAYLIGHT
TZOFFSETFROM:-0600
TZOFFSETTO:-0500
TZNAME:CDT
DTSTART:20220313T080000
END:DAYLIGHT
BEGIN:STANDARD
TZOFFSETFROM:-0500
TZOFFSETTO:-0600
TZNAME:CST
DTSTART:20221106T070000
END:STANDARD
END:VTIMEZONE
BEGIN:VEVENT
DTSTART;VALUE=DATE:20221008
DTEND;VALUE=DATE:20221010
DTSTAMP:20260422T053116
CREATED:20211224T052843Z
LAST-MODIFIED:20220928T201709Z
UID:358317-1665187200-1665359999@dfwmas.org
SUMMARY:Reef A Palooza
DESCRIPTION:Reef A Palooza\nOctober 8-9th \nhttps://www.reefapaloozashow.net/ \nseeking volunteers at Reef A Palooza in Frisco to help club get discounted table – this week Dallas Fort Worth Marine Aquarium Society (DFWMAS) club Secretary Lisa needs to turn in volunteer names and phone numbers to Reef-A-Palooza Texas (yes\, a week in advance). \nPlease sign up here to become volunteer:\nhttps://forum.dfwmas.org/index.php?threads/seek-reef-a-palooza-tx-volunteers-for-event-and-club-table-fri-sat-sunday.44965/
URL:https://dfwmas.org/calendar/reef-a-palooza/
ATTACH;FMTTYPE=image/jpeg:https://dfwmas.org/wp-content/uploads/2021/12/Reef-A-Palooza-Texas-2022-Oct-8-9-n-Fri-7th.jpg
END:VEVENT
BEGIN:VEVENT
DTSTART;VALUE=DATE:20221009
DTEND;VALUE=DATE:20221016
DTSTAMP:20260422T053116
CREATED:20220318T050913Z
LAST-MODIFIED:20220318T050913Z
UID:358547-1665273600-1665878399@dfwmas.org
SUMMARY:AlgaGen Direct
DESCRIPTION:DFWMAS is proud to announce ‘Sponsor of the Week’ Oct 9-15 AlgaGen Direct \nCheck out our partner:\nhttps://www.algagendirect.com/
URL:https://dfwmas.org/calendar/algagen-direct/
ATTACH;FMTTYPE=image/png:https://dfwmas.org/wp-content/uploads/2021/12/algagen-direct-logo-smaller.png
END:VEVENT
END:VCALENDAR