BEGIN:VCALENDAR
VERSION:2.0
PRODID:-//DFWMAS - ECPv6.3.4//NONSGML v1.0//EN
CALSCALE:GREGORIAN
METHOD:PUBLISH
X-WR-CALNAME:DFWMAS
X-ORIGINAL-URL:https://dfwmas.org
X-WR-CALDESC:Events for DFWMAS
REFRESH-INTERVAL;VALUE=DURATION:PT1H
X-Robots-Tag:noindex
X-PUBLISHED-TTL:PT1H
BEGIN:VTIMEZONE
TZID:America/Chicago
BEGIN:DAYLIGHT
TZOFFSETFROM:-0600
TZOFFSETTO:-0500
TZNAME:CDT
DTSTART:20220313T080000
END:DAYLIGHT
BEGIN:STANDARD
TZOFFSETFROM:-0500
TZOFFSETTO:-0600
TZNAME:CST
DTSTART:20221106T070000
END:STANDARD
END:VTIMEZONE
BEGIN:VEVENT
DTSTART;VALUE=DATE:20220821
DTEND;VALUE=DATE:20220828
DTSTAMP:20260422T035254
CREATED:20220318T030550Z
LAST-MODIFIED:20220318T030550Z
UID:358527-1661040000-1661644799@dfwmas.org
SUMMARY:Golden Basket Reef 'Sponsor of the Week'
DESCRIPTION:DFWMAS is proud to announce ‘Sponsor of the Week’ Aug 21-27 Golden Basket Reef \nCheck out our partner:\nhttps://www.facebook.com/goldenbasket\nhttps://www.instagram.com/goldenbasketreef/?hl=en\nhttps://goldenbasketreef.com/
URL:https://dfwmas.org/calendar/golden-basket-reef-sponsor-of-the-week/
ATTACH;FMTTYPE=image/png:https://dfwmas.org/wp-content/uploads/2022/03/Golden-Basket-Reef.png
END:VEVENT
BEGIN:VEVENT
DTSTART;TZID=America/Chicago:20220824T190000
DTEND;TZID=America/Chicago:20220824T200000
DTSTAMP:20260422T035255
CREATED:20220422T193323Z
LAST-MODIFIED:20220802T171904Z
UID:358612-1661367600-1661371200@dfwmas.org
SUMMARY:Monthly Club Mtg Lee Lawson at School of Fish + zoom
DESCRIPTION:Inviting you to a scheduled Zoom and in-person hybrid meeting at School of Fish 307 E Belt Line Road in DeSoto\, TX. \nThis meeting is open to all. You do not need to be member of hobby club. Please bring a friend and bring chairs. \nTopic: dfwmas August Monthly Club Meeting – Lee at School of Fish – hybrid zoom and in-person at School of Fish\nTime: Aug 24\, 2022 07:00 PM Central Time (US and Canada) \nJoin Zoom Meeting\nhttps://us06web.zoom.us/j/81679148818?pwd=ZWFtY25ZRFhKaUdhNnE3eXVPaTZQUT09 \nMeeting ID: 816 7914 8818\nPasscode: 210738 \nOne tap mobile\n+13462487799\,\,81679148818#\,\,\,\,*210738# US (Houston)\n+17207072699\,\,81679148818#\,\,\,\,*210738# US (Denver) \nDial by your location\n+1 346 248 7799 US (Houston)\n+1 720 707 2699 US (Denver)\n+1 253 215 8782 US (Tacoma)\n+1 669 444 9171 US\n+1 386 347 5053 US\n+1 564 217 2000 US\n+1 646 558 8656 US (New York)\n+1 646 931 3860 US\n+1 301 715 8592 US (Washington DC)\n+1 312 626 6799 US (Chicago) \nMeeting ID: 816 7914 8818\nPasscode: 210738 \nFind your local number: https://us06web.zoom.us/u/kdJa0hDAye \nFor a calendar invite\, please refer to www.dfwmas.org in Forum. Refer Forum. Look under Forum in category Events.
URL:https://dfwmas.org/calendar/monthly-club-mtg-lee-lawson-at-school-of-fish-zoom/
ATTACH;FMTTYPE=image/jpeg:https://dfwmas.org/wp-content/uploads/2022/04/2022-08-24-Lee-at-School-of-Fish-and-Zoom.jpg
END:VEVENT
END:VCALENDAR