BEGIN:VCALENDAR
VERSION:2.0
PRODID:-//DFWMAS - ECPv6.3.4//NONSGML v1.0//EN
CALSCALE:GREGORIAN
METHOD:PUBLISH
X-WR-CALNAME:DFWMAS
X-ORIGINAL-URL:https://dfwmas.org
X-WR-CALDESC:Events for DFWMAS
REFRESH-INTERVAL;VALUE=DURATION:PT1H
X-Robots-Tag:noindex
X-PUBLISHED-TTL:PT1H
BEGIN:VTIMEZONE
TZID:America/Chicago
BEGIN:DAYLIGHT
TZOFFSETFROM:-0600
TZOFFSETTO:-0500
TZNAME:CDT
DTSTART:20220313T080000
END:DAYLIGHT
BEGIN:STANDARD
TZOFFSETFROM:-0500
TZOFFSETTO:-0600
TZNAME:CST
DTSTART:20221106T070000
END:STANDARD
END:VTIMEZONE
BEGIN:VEVENT
DTSTART;VALUE=DATE:20220717
DTEND;VALUE=DATE:20220724
DTSTAMP:20260421T161131
CREATED:20220318T020320Z
LAST-MODIFIED:20220318T020320Z
UID:358517-1658016000-1658620799@dfwmas.org
SUMMARY:Reef Hobbyist Magazine 'Sponsor of the Week'
DESCRIPTION:DFWMAS is proud to announce ‘Sponsor of the Week’ July 17-23 Reef Hobbyist Magazine \nCheck out our partner:\nhttps://www.reefhobbyistmagazine.com/
URL:https://dfwmas.org/calendar/reef-hobbyist-magazine-sponsor-of-the-week/
ATTACH;FMTTYPE=image/jpeg:https://dfwmas.org/wp-content/uploads/2022/01/Reef-Hobbyist-Magazine-Logo-green.jpg
END:VEVENT
BEGIN:VEVENT
DTSTART;TZID=America/Chicago:20220720T190000
DTEND;TZID=America/Chicago:20220720T200000
DTSTAMP:20260421T161131
CREATED:20220422T193133Z
LAST-MODIFIED:20220701T160145Z
UID:358610-1658343600-1658347200@dfwmas.org
SUMMARY:Monthly Club Mtg Leung Sy on Miracle Mud at SALGADO AQUATICS LFS
DESCRIPTION:Miracle Mud and MORE \nRefer website Forum for more info\, including calendar reminder! \nHybrid mtg both Zoom and in person at SALGADO AQUATICS LFS \nTopic: dfwmas July club mtg Leng Sy topic: ‘Miracle Mud’ – zoom + SALGADO AQUATICS LFS\nTime: Jul 20\, 2022 07:00 PM Central Time (US and Canada) \nAll Welcome – bring your own chair for in person or zoom from home/work \nSALGADO AQUATICS\n2949 W 15<sup>th</sup> Street\nPlano\, TX 75075 \nJoin Zoom Meeting\nhttps://us06web.zoom.us/j/87987677383?pwd=eFFlcnREK1lCaGVJV2lFQzA0ZmZVdz09 \nMeeting ID: 879 8767 7383\nPasscode: 573123\nOne tap mobile\n+13462487799\,\,87987677383#\,\,\,\,*573123# US (Houston)\n+17207072699\,\,87987677383#\,\,\,\,*573123# US (Denver) \nDial by your location\n+1 346 248 7799 US (Houston)\n+1 720 707 2699 US (Denver)\n+1 253 215 8782 US (Tacoma)\n+1 646 558 8656 US (New York)\n+1 301 715 8592 US (Washington DC)\n+1 312 626 6799 US (Chicago)\nMeeting ID: 879 8767 7383\nPasscode: 573123\nFind your local number: https://us06web.zoom.us/u/kbqIFaruDX \nCalendar invite/reminder: \n 
URL:https://dfwmas.org/calendar/monthly-club-mtg-leung-sy-on-miracle-mud-lfs-tbd/
ATTACH;FMTTYPE=image/jpeg:https://dfwmas.org/wp-content/uploads/2022/04/2022-07-monthly-club-announcement-mtg.jpg
END:VEVENT
END:VCALENDAR