BEGIN:VCALENDAR
VERSION:2.0
PRODID:-//DFWMAS - ECPv6.3.4//NONSGML v1.0//EN
CALSCALE:GREGORIAN
METHOD:PUBLISH
X-ORIGINAL-URL:https://dfwmas.org
X-WR-CALDESC:Events for DFWMAS
REFRESH-INTERVAL;VALUE=DURATION:PT1H
X-Robots-Tag:noindex
X-PUBLISHED-TTL:PT1H
BEGIN:VTIMEZONE
TZID:America/Chicago
BEGIN:DAYLIGHT
TZOFFSETFROM:-0600
TZOFFSETTO:-0500
TZNAME:CDT
DTSTART:20220313T080000
END:DAYLIGHT
BEGIN:STANDARD
TZOFFSETFROM:-0500
TZOFFSETTO:-0600
TZNAME:CST
DTSTART:20221106T070000
END:STANDARD
END:VTIMEZONE
BEGIN:VEVENT
DTSTART;VALUE=DATE:20220417
DTEND;VALUE=DATE:20220424
DTSTAMP:20260421T065047
CREATED:20220317T212458Z
LAST-MODIFIED:20220317T212458Z
UID:358479-1650153600-1650758399@dfwmas.org
SUMMARY:Aquastudios 'Sponsor of Week'
DESCRIPTION:DFWMAS is proud to announce ‘Sponsor of the Week’ Aquastudios April 17-23  \nCheck out our partner:\nhttps://www.facebook.com/AquastudiosAquarium/
URL:https://dfwmas.org/calendar/aquastudios-sponsor-of-week/
ATTACH;FMTTYPE=image/png:https://dfwmas.org/wp-content/uploads/2016/12/ElosAquastudio400x200.png
END:VEVENT
BEGIN:VEVENT
DTSTART;TZID=America/Chicago:20220421T190000
DTEND;TZID=America/Chicago:20220421T200000
DTSTAMP:20260421T065048
CREATED:20220321T225251Z
LAST-MODIFIED:20220407T001501Z
UID:358561-1650567600-1650571200@dfwmas.org
SUMMARY:Club Mtg - Hybrid zoom & at Aquastudios - Dinos and More!
DESCRIPTION:dfwmas April club mtg featuring Brandon at AquaStudios and zoom on dinoflagellates and more! \nApr 21\, 2022 07:00 PM Central Time (US and Canada)\nboth in-person (bring your own chairs) Aqustudios Aquarium and zoom (virtual)\n     4750 S Colony Blvd #110\n     The Colony\, TX 75056 \nJoin Zoom Meeting\nhttps://us06web.zoom.us/j/81885467355?pwd%3DcVhCS3Q3b1hCcElocDVldmZKVmROdz09&source=gmail&ust=1647719591932000&usg=AOvVaw2Trk18pPBfvaRycpPCv9C 1″> https://us06web.zoom.us/j/81885467355?pwd=cVhCS3Q3b1hCcElocDVldmZKVmROdz09 \nMeeting ID: 818 8546 7355\nPasscode: 752378 \nOne tap mobile\n+13462487799\,\,81885467355#\,\,\,\,*752378# US (Houston)\n+17207072699\,\,81885467355#\,\,\,\,*752378# US (Denver) \nDial by your location\n        +1 346 248 7799 US (Houston)\n        +1 720 707 2699 US (Denver)\n        +1 253 215 8782 US (Tacoma)\n        +1 301 715 8592 US (Washington DC)\n        +1 312 626 6799 US (Chicago)\n        +1 646 558 8656 US (New York) \nMeeting ID: 818 8546 7355\nPasscode: 752378 \nFind your local number: https://us06web.zoom.us/u/kb0U7F97m1&source=gmail&ust=1647719591932000&usg=AOvVaw1tPKVCgoi8qh6R93Fgsjv r”> https://us06web.zoom.us/u/kb0U7F97m1 \nFor calendar .ics file to add reminder to your personal calendar\, as well as additional info\, refer website Forum.
URL:https://dfwmas.org/calendar/club-mtg-hybrid-zoom-at-aquastudios-dinos-and-more/
ATTACH;FMTTYPE=image/jpeg:https://dfwmas.org/wp-content/uploads/2022/03/2022-04-meeting-announcement-graphic.jpg
END:VEVENT
END:VCALENDAR