BEGIN:VCALENDAR
VERSION:2.0
PRODID:-//DFWMAS - ECPv6.3.4//NONSGML v1.0//EN
CALSCALE:GREGORIAN
METHOD:PUBLISH
X-ORIGINAL-URL:https://dfwmas.org
X-WR-CALDESC:Events for DFWMAS
REFRESH-INTERVAL;VALUE=DURATION:PT1H
X-Robots-Tag:noindex
X-PUBLISHED-TTL:PT1H
BEGIN:VTIMEZONE
TZID:America/Chicago
BEGIN:DAYLIGHT
TZOFFSETFROM:-0600
TZOFFSETTO:-0500
TZNAME:CDT
DTSTART:20220313T080000
END:DAYLIGHT
BEGIN:STANDARD
TZOFFSETFROM:-0500
TZOFFSETTO:-0600
TZNAME:CST
DTSTART:20221106T070000
END:STANDARD
END:VTIMEZONE
BEGIN:VEVENT
DTSTART;TZID=America/Chicago:20220314T080000
DTEND;TZID=America/Chicago:20220411T170000
DTSTAMP:20260421T082356
CREATED:20220310T005921Z
LAST-MODIFIED:20220310T005940Z
UID:358462-1647244800-1649696400@dfwmas.org
SUMMARY:45% OFF DFWMAS Club Special by AlgaGen sponsor
DESCRIPTION:45% off coupon – coupon code is  DFW45\nStarts Monday\, March 14\, 2022\nLast day of the coupon is Monday\, April 11\, 2022 \nThey made a page for the DFW45 customers here:    https://www.algagendirect.com/dfw45customers.html \nThese are the products that the 45% coupon works on: \nAlgaGenPods™ Apocydops\nAlgaGenPods™ Tisbe\nPhycoPure™ Reef Blend\nPhycoPure™ Zooxanthellae\nPhyto-Plasm™ Combo\nPhyto-Plasm™ Phyto Brown\nPhyto-Plasm™ Phyto Green\nPhyto-Plasm™ Phyto Zooxanthellae\nZoo-Plasm™ Decap’D Brine\nZoo-Plasm™ PODS\nZoo-Plasm™ Rotifers
URL:https://dfwmas.org/calendar/45-off-dfwmas-special-by-algagen-sponsor/
ATTACH;FMTTYPE=image/png:https://dfwmas.org/wp-content/uploads/2021/12/algagen-direct-logo-smaller.png
END:VEVENT
BEGIN:VEVENT
DTSTART;VALUE=DATE:20220320
DTEND;VALUE=DATE:20220327
DTSTAMP:20260421T082356
CREATED:20220317T192722Z
LAST-MODIFIED:20220317T192722Z
UID:358471-1647734400-1648339199@dfwmas.org
SUMMARY:The Big Little Fish Store 'Sponsor of the Week'
DESCRIPTION:DFWMAS is proud to announce ‘Sponsor of the Week’ March 20-26 The Big Little Fish Store \nCheck out our partner:\nhttps://www.facebook.com/thebiglittlefishstore/ \n\nHome
URL:https://dfwmas.org/calendar/the-big-little-fish-store-sponsor-of-the-week-2/
ATTACH;FMTTYPE=image/jpeg:https://dfwmas.org/wp-content/uploads/2019/10/BigLittleFishStore_560_Logo.jpg
END:VEVENT
BEGIN:VEVENT
DTSTART;TZID=America/Chicago:20220326T080000
DTEND;TZID=America/Chicago:20220326T170000
DTSTAMP:20260421T082358
CREATED:20220209T011451Z
LAST-MODIFIED:20220209T011451Z
UID:358424-1648281600-1648314000@dfwmas.org
SUMMARY:Spring Bus Tour - South DFW Metroplex
DESCRIPTION:Spring Bus Tour \nFree\nSouth DFW Metroplex Local Fish Stores Tour \nSaturday\, March 26th\n8-8:30am Parking\nDuluth Trading Company\n620 E Interstate 20\nArlington\, TX 76018\n(carpools appreciated)\nPark Sides toward Back\nBus pickup in BACK of Duluth Trading Company\, Arlington TX 76018 \nSchedule\n8:15am – Meet in Duluth Trading Company Arlington parking lot\n8:45am – leave parking lot – MUST BE ON BUS\n9:00am – arrive Saltwater Paradise\n10:20am – leave Saltwater Paradise\n10:50am – arrive School of Fish\n12:10pm – leave School of Fish\n12:40pm – arrive Ocean Avenue\nlunch\n2:20pm – leave Ocean Avenue\n2:50pm – arrive Franks Tanks\n4:10pm – leave Franks Tanks\n4:40pm – arrive Duluth Trading Company Arlington parking lot\n5:00pm – bus leaves parking lot \nLimited Seating. Registration first come/first on order\, then waitlist. Storage under motorcoach w/bathroom. Drinks (water\, soda\, beer (BYOB – no glass))\, Raffles\, More Fun on bus! FREE
URL:https://dfwmas.org/calendar/spring-bus-tour-south-dfw-metroplex/
ATTACH;FMTTYPE=image/png:https://dfwmas.org/wp-content/uploads/2022/02/DFWMAS-excited-school-bus-graphic.png
END:VEVENT
END:VCALENDAR