BEGIN:VCALENDAR
VERSION:2.0
PRODID:-//DFWMAS - ECPv6.3.4//NONSGML v1.0//EN
CALSCALE:GREGORIAN
METHOD:PUBLISH
X-WR-CALNAME:DFWMAS
X-ORIGINAL-URL:https://dfwmas.org
X-WR-CALDESC:Events for DFWMAS
REFRESH-INTERVAL;VALUE=DURATION:PT1H
X-Robots-Tag:noindex
X-PUBLISHED-TTL:PT1H
BEGIN:VTIMEZONE
TZID:America/Chicago
BEGIN:DAYLIGHT
TZOFFSETFROM:-0600
TZOFFSETTO:-0500
TZNAME:CDT
DTSTART:20220313T080000
END:DAYLIGHT
BEGIN:STANDARD
TZOFFSETFROM:-0500
TZOFFSETTO:-0600
TZNAME:CST
DTSTART:20221106T070000
END:STANDARD
END:VTIMEZONE
BEGIN:VEVENT
DTSTART;VALUE=DATE:20220227
DTEND;VALUE=DATE:20220306
DTSTAMP:20260421T082239
CREATED:20211114T192049Z
LAST-MODIFIED:20211114T192049Z
UID:358263-1645920000-1646524799@dfwmas.org
SUMMARY:Texas Coral Fest 'Sponsor of the Week'
DESCRIPTION:DFWMAS is proud to announce ‘Sponsor of the Week’ Texas Coral Fest – Feb 27-Mar 5th\nCheck out our partner at:\nhttps://www.facebook.com/groups/357643834436940/
URL:https://dfwmas.org/calendar/texas-coral-fest-sponsor-of-the-week/
ATTACH;FMTTYPE=image/jpeg:https://dfwmas.org/wp-content/uploads/revslider/welcome/home.jpg
END:VEVENT
BEGIN:VEVENT
DTSTART;TZID=America/Chicago:20220305T110000
DTEND;TZID=America/Chicago:20220305T150000
DTSTAMP:20260421T082239
CREATED:20211211T133338Z
LAST-MODIFIED:20211211T133338Z
UID:358302-1646478000-1646492400@dfwmas.org
SUMMARY:Frag Swap
DESCRIPTION:Frag Swap\nBob Duncan Community Center Arlington TX\nSaturday March 5\, 2022\n11am Premium DFWMAS Members Early Bird Entry\nNoon – 3pm Public Entry\n\nSellers: Setup begins 8am / 4:30pm cleanup completion\n\nhttps://www.dfwmas.org/community/events/2022-spring-frag-swap-march-5th-arlington-2/#post-337792
URL:https://dfwmas.org/calendar/frag-swap-2/
ATTACH;FMTTYPE=image/jpeg:https://dfwmas.org/wp-content/uploads/2021/12/March-5-Frag-Swap-DFWMAS-Hobby-Club-Announcement-black-background.jpg
END:VEVENT
END:VCALENDAR