BEGIN:VCALENDAR
VERSION:2.0
PRODID:-//DFWMAS - ECPv6.3.4//NONSGML v1.0//EN
CALSCALE:GREGORIAN
METHOD:PUBLISH
X-WR-CALNAME:DFWMAS
X-ORIGINAL-URL:https://dfwmas.org
X-WR-CALDESC:Events for DFWMAS
REFRESH-INTERVAL;VALUE=DURATION:PT1H
X-Robots-Tag:noindex
X-PUBLISHED-TTL:PT1H
BEGIN:VTIMEZONE
TZID:America/Chicago
BEGIN:DAYLIGHT
TZOFFSETFROM:-0600
TZOFFSETTO:-0500
TZNAME:CDT
DTSTART:20220313T080000
END:DAYLIGHT
BEGIN:STANDARD
TZOFFSETFROM:-0500
TZOFFSETTO:-0600
TZNAME:CST
DTSTART:20221106T070000
END:STANDARD
END:VTIMEZONE
BEGIN:VEVENT
DTSTART;VALUE=DATE:20220220
DTEND;VALUE=DATE:20220227
DTSTAMP:20260421T102626
CREATED:20211114T192406Z
LAST-MODIFIED:20211114T192406Z
UID:358265-1645315200-1645919999@dfwmas.org
SUMMARY:Saltwater Paradise 'Sponsor of the Week'
DESCRIPTION:DFWMAS is proud to announce ‘Sponsor of the Week’ Saltwater Paradise – Feb 20-Feb 26th\nCheck out our partner:\nhttps://www.facebook.com/1313salwaterparadise/\nhttps://saltwaterparadisedfw.com/
URL:https://dfwmas.org/calendar/saltwater-paradise-sponsor-of-the-week-2/
ATTACH;FMTTYPE=image/jpeg:https://dfwmas.org/wp-content/uploads/revslider/welcome/home.jpg
END:VEVENT
END:VCALENDAR