BEGIN:VCALENDAR
VERSION:2.0
PRODID:-//DFWMAS - ECPv6.3.4//NONSGML v1.0//EN
CALSCALE:GREGORIAN
METHOD:PUBLISH
X-ORIGINAL-URL:https://dfwmas.org
X-WR-CALDESC:Events for DFWMAS
REFRESH-INTERVAL;VALUE=DURATION:PT1H
X-Robots-Tag:noindex
X-PUBLISHED-TTL:PT1H
BEGIN:VTIMEZONE
TZID:America/Chicago
BEGIN:DAYLIGHT
TZOFFSETFROM:-0600
TZOFFSETTO:-0500
TZNAME:CDT
DTSTART:20220313T080000
END:DAYLIGHT
BEGIN:STANDARD
TZOFFSETFROM:-0500
TZOFFSETTO:-0600
TZNAME:CST
DTSTART:20221106T070000
END:STANDARD
END:VTIMEZONE
BEGIN:VEVENT
DTSTART;VALUE=DATE:20220213
DTEND;VALUE=DATE:20220220
DTSTAMP:20260421T102736
CREATED:20211114T191756Z
LAST-MODIFIED:20211216T180025Z
UID:358259-1644710400-1645315199@dfwmas.org
SUMMARY:Rift2Reef Aquatics 'Sponsor of the Week'
DESCRIPTION:DFWMAS is proud to announce ‘Sponsor of the Week’ Rift2Reef Aquatics – Feb 13-Feb 19th\nCheck out our partner:\nhttps://www.facebook.com/rift2reef/\nhttps://www.rift2reef.com/
URL:https://dfwmas.org/calendar/rift2reef-aquatics-sponsor-of-the-week-2/
ATTACH;FMTTYPE=image/png:https://dfwmas.org/wp-content/uploads/2017/07/2752-carousellogotrans.png
END:VEVENT
BEGIN:VEVENT
DTSTART;TZID=America/Chicago:20220217T190000
DTEND;TZID=America/Chicago:20220217T200000
DTSTAMP:20260421T102736
CREATED:20220209T010334Z
LAST-MODIFIED:20220209T010535Z
UID:358418-1645124400-1645128000@dfwmas.org
SUMMARY:2/17 7pm club mtg zoom + Glass Aquatics in Hurst
DESCRIPTION:Feb 17 monthly club meeting both zoom and LIVE at Glass Aquatics in Hurst\, featuring Vanessa \nFIRST TIME *BOTH* IN PERSON and ON ZOOM !! If you’re working late and can’t make it\, if you’re concerned COVID\, if you miss being around other aquarium folks\, COME JOIN US EITHER REMOTE OR IN PERSON!! \nFeaturing Vanessa\, Glass Aquatics co-owner \nLocation: ZOOM (see below)  OR  Glass Aquatics 522 W Harwood Road Hurst\, TX 76054 \nFirst event at BRAND NEW GLASS AQUATICS LOCATION! \niCalendar invite attached in Forum. Refer Forum \n  \ndfwmas Feb member mtg featuring Vanessa\, Glass Aquatics \nmeeting both Zoom and LIVE at GLASS AQUATICS 522 W Harwood Rd\, Hurst TX 76054 \nBring chair if needed else stand OR watch live thru your electronic device – your choice \nTopic: dfwmas Feb member mtg featuring Vanessa\, Glass Aquatics \nTime: Feb 17\, 2022 07:00 PM Central Time (US and Canada) \n  \nJoin Zoom Meeting \nhttps://us06web.zoom.us/j/82177180317?pwd=cndabjFNMWwrZ1N3QTBNL3lrNHNuUT09 \nMeeting ID: 821 7718 0317 \nPasscode: 880682 \nOne tap mobile \n+13462487799\,\,82177180317#\,\,\,\,*880682# US (Houston) \n+17207072699\,\,82177180317#\,\,\,\,*880682# US (Denver) \n  \nDial by your location \n+1 346 248 7799 US (Houston) \n+1 720 707 2699 US (Denver) \n+1 253 215 8782 US (Tacoma) \n+1 301 715 8592 US (Washington DC) \n+1 312 626 6799 US (Chicago) \n+1 646 558 8656 US (New York) \nMeeting ID: 821 7718 0317 \nPasscode: 880682 \nFind your local number: https://us06web.zoom.us/u/kJImDvHvz
URL:https://dfwmas.org/calendar/2-17-7pm-club-mtg-zoom-glass-aquatics-in-hurst/
ATTACH;FMTTYPE=image/png:https://dfwmas.org/wp-content/uploads/2020/04/Glass-Aquatics-Logo-Watermark-with-Name-Moto.png
END:VEVENT
END:VCALENDAR