BEGIN:VCALENDAR
VERSION:2.0
PRODID:-//DFWMAS - ECPv6.3.4//NONSGML v1.0//EN
CALSCALE:GREGORIAN
METHOD:PUBLISH
X-WR-CALNAME:DFWMAS
X-ORIGINAL-URL:https://dfwmas.org
X-WR-CALDESC:Events for DFWMAS
REFRESH-INTERVAL;VALUE=DURATION:PT1H
X-Robots-Tag:noindex
X-PUBLISHED-TTL:PT1H
BEGIN:VTIMEZONE
TZID:America/Chicago
BEGIN:DAYLIGHT
TZOFFSETFROM:-0600
TZOFFSETTO:-0500
TZNAME:CDT
DTSTART:20220313T080000
END:DAYLIGHT
BEGIN:STANDARD
TZOFFSETFROM:-0500
TZOFFSETTO:-0600
TZNAME:CST
DTSTART:20221106T070000
END:STANDARD
END:VTIMEZONE
BEGIN:VEVENT
DTSTART;VALUE=DATE:20220123
DTEND;VALUE=DATE:20220130
DTSTAMP:20260421T164005
CREATED:20211114T191300Z
LAST-MODIFIED:20211114T191300Z
UID:358253-1642896000-1643500799@dfwmas.org
SUMMARY:Ocean Avenue 'Sponsor of the Week'
DESCRIPTION:DFWMAS is proud to announce ‘Sponsor of the Week’ Ocean Avenue – Jan 23-Jan 29th\nCheck out our partner at:\nhttps://www.facebook.com/oceanaveaquaticstx\nhttp://oceanavenuetexas.com/
URL:https://dfwmas.org/calendar/ocean-avenue-sponsor-of-the-week/
ATTACH;FMTTYPE=image/jpeg:https://dfwmas.org/wp-content/uploads/revslider/welcome/home.jpg
END:VEVENT
BEGIN:VEVENT
DTSTART;TZID=America/Chicago:20220126T190000
DTEND;TZID=America/Chicago:20220126T200000
DTSTAMP:20260421T164005
CREATED:20211211T132645Z
LAST-MODIFIED:20211211T132645Z
UID:358300-1643223600-1643227200@dfwmas.org
SUMMARY:Jan Club Meeting featuring Red Sea topic: 'Water Chemistry'
DESCRIPTION:Jan 26 7pm club meeting\, Water Chemistry by Scott Kohler\, Red Sea \nhttps://us06web.zoom.us/j/89729165653?pwd%3DOVUvektqQmlReXVub2h2V0dCaDhLQT09&source=gmail&ust=1638927346862000&usg=AOvVaw3trkH_NSeOsnevZmQaCuy a”> https://us06web.zoom.us/j/89729165653?pwd=OVUvektqQmlReXVub2h2V0dCaDhLQT09 \nwww.zoom.com \nJoin a meeting:\nMeeting ID: 897 2916 5653\nPasscode: 631560 \nDial by your location:\n+1 346 248 7799 US (Houston)\n+1 720 707 2699 US (Denver)\n+1 253 215 8782 US (Tacoma)\n+1 646 558 8656 US (New York)\n+1 301 715 8592 US (Washington DC)\n+1 312 626 6799 US (Chicago) \nFind your local number: https://us06web.zoom.us/u/kdt6yla3tu
URL:https://dfwmas.org/calendar/jan-club-meeting-featuring-red-sea-topic-water-chemistry/
END:VEVENT
END:VCALENDAR