BEGIN:VCALENDAR
VERSION:2.0
PRODID:-//DFWMAS - ECPv6.3.4//NONSGML v1.0//EN
CALSCALE:GREGORIAN
METHOD:PUBLISH
X-ORIGINAL-URL:https://dfwmas.org
X-WR-CALDESC:Events for DFWMAS
REFRESH-INTERVAL;VALUE=DURATION:PT1H
X-Robots-Tag:noindex
X-PUBLISHED-TTL:PT1H
BEGIN:VTIMEZONE
TZID:America/Chicago
BEGIN:DAYLIGHT
TZOFFSETFROM:-0600
TZOFFSETTO:-0500
TZNAME:CDT
DTSTART:20220313T080000
END:DAYLIGHT
BEGIN:STANDARD
TZOFFSETFROM:-0500
TZOFFSETTO:-0600
TZNAME:CST
DTSTART:20221106T070000
END:STANDARD
END:VTIMEZONE
BEGIN:VEVENT
DTSTART;VALUE=DATE:20220102
DTEND;VALUE=DATE:20220109
DTSTAMP:20260421T161125
CREATED:20211114T190800Z
LAST-MODIFIED:20211216T175836Z
UID:358246-1641081600-1641686399@dfwmas.org
SUMMARY:Fraghouse Corals 'Sponsor of the Week'
DESCRIPTION:DFWMAS is proud to announce ‘Sponsor of the Week’ Fraghouse Corals – Jan 2-Jan 8th\nCheck out our partner:\nhttps://www.facebook.com/Fraghousecorals/\nhttps://fraghousecorals.com/
URL:https://dfwmas.org/calendar/fraghouse-corals-sponsor-of-the-week/
ATTACH;FMTTYPE=image/png:https://dfwmas.org/wp-content/uploads/2017/12/3563-Fraghouse.png
END:VEVENT
END:VCALENDAR