BEGIN:VCALENDAR
VERSION:2.0
PRODID:-//DFWMAS - ECPv6.3.4//NONSGML v1.0//EN
CALSCALE:GREGORIAN
METHOD:PUBLISH
X-ORIGINAL-URL:https://dfwmas.org
X-WR-CALDESC:Events for DFWMAS
REFRESH-INTERVAL;VALUE=DURATION:PT1H
X-Robots-Tag:noindex
X-PUBLISHED-TTL:PT1H
BEGIN:VTIMEZONE
TZID:America/Chicago
BEGIN:DAYLIGHT
TZOFFSETFROM:-0600
TZOFFSETTO:-0500
TZNAME:CDT
DTSTART:20210314T080000
END:DAYLIGHT
BEGIN:STANDARD
TZOFFSETFROM:-0500
TZOFFSETTO:-0600
TZNAME:CST
DTSTART:20211107T070000
END:STANDARD
END:VTIMEZONE
BEGIN:VEVENT
DTSTART;TZID=America/Chicago:20210623T190000
DTEND;TZID=America/Chicago:20210623T200000
DTSTAMP:20260422T050316
CREATED:20210215T194358Z
LAST-MODIFIED:20210401T165802Z
UID:358181-1624474800-1624478400@dfwmas.org
SUMMARY:Marc Levenson - Reef Photography - from DSLR to Smartphone
DESCRIPTION:Dear members\, \nYou are invited to a Zoom meeting.\nWhen: Jun 23\, 2021 07:00 PM Central Time (US and Canada) \nMarc Levenson – Reef Photography – from DSLR to Smartphone \nJoin us! \nRSVP is required; Register in advance for this meeting:\nhttps://zoom.us/meeting/register/tJMsf-2urz8rH9FIiNhUzcWoTm9TzCgUrSBM \nAfter registering\, you will receive a confirmation email containing information about joining the meeting.
URL:https://dfwmas.org/calendar/marc-levenson-reef-photography-from-dslr-to-smartphone/
ATTACH;FMTTYPE=image/jpeg:https://dfwmas.org/wp-content/uploads/2021/02/MarcL-scaled.jpeg
ORGANIZER;CN="DFWMAS":MAILTO:webmaster@dfwmas.org
END:VEVENT
END:VCALENDAR