BEGIN:VCALENDAR
VERSION:2.0
PRODID:-//DFWMAS - ECPv6.3.4//NONSGML v1.0//EN
CALSCALE:GREGORIAN
METHOD:PUBLISH
X-WR-CALNAME:DFWMAS
X-ORIGINAL-URL:https://dfwmas.org
X-WR-CALDESC:Events for DFWMAS
REFRESH-INTERVAL;VALUE=DURATION:PT1H
X-Robots-Tag:noindex
X-PUBLISHED-TTL:PT1H
BEGIN:VTIMEZONE
TZID:America/Chicago
BEGIN:DAYLIGHT
TZOFFSETFROM:-0600
TZOFFSETTO:-0500
TZNAME:CDT
DTSTART:20210314T080000
END:DAYLIGHT
BEGIN:STANDARD
TZOFFSETFROM:-0500
TZOFFSETTO:-0600
TZNAME:CST
DTSTART:20211107T070000
END:STANDARD
END:VTIMEZONE
BEGIN:VEVENT
DTSTART;TZID=America/Chicago:20210227T120000
DTEND;TZID=America/Chicago:20210227T200000
DTSTAMP:20260423T035731
CREATED:20210215T191244Z
LAST-MODIFIED:20210215T191335Z
UID:358166-1614427200-1614456000@dfwmas.org
SUMMARY:MINI MACNA
DESCRIPTION:mini MACNA will be held on February 27\, 2021\, as a webinar event\, with the theme of “Overcoming Challenges in Reefkeeping”. \nSign up now!
URL:https://dfwmas.org/calendar/mini-macna/
END:VEVENT
END:VCALENDAR