BEGIN:VCALENDAR
VERSION:2.0
PRODID:-//DFWMAS - ECPv6.3.4//NONSGML v1.0//EN
CALSCALE:GREGORIAN
METHOD:PUBLISH
X-ORIGINAL-URL:https://dfwmas.org
X-WR-CALDESC:Events for DFWMAS
REFRESH-INTERVAL;VALUE=DURATION:PT1H
X-Robots-Tag:noindex
X-PUBLISHED-TTL:PT1H
BEGIN:VTIMEZONE
TZID:America/Chicago
BEGIN:DAYLIGHT
TZOFFSETFROM:-0600
TZOFFSETTO:-0500
TZNAME:CDT
DTSTART:20200308T080000
END:DAYLIGHT
BEGIN:STANDARD
TZOFFSETFROM:-0500
TZOFFSETTO:-0600
TZNAME:CST
DTSTART:20201101T070000
END:STANDARD
END:VTIMEZONE
BEGIN:VEVENT
DTSTART;TZID=America/Chicago:20200514T180000
DTEND;TZID=America/Chicago:20200514T190000
DTSTAMP:20260423T111242
CREATED:20200508T184029Z
LAST-MODIFIED:20200511T211521Z
UID:358022-1589479200-1589482800@dfwmas.org
SUMMARY:DFWMAS  2020 Virtual Tank Tour!
DESCRIPTION:Dear members\, \nYou are invited to a Zoom meeting.\nWhen: May 14\, 2020\, 06:00 PM Central Time (US and Canada) \nJoin us on a virtual Tank Tour of Ryan’s majestic 1000 gallon reef tank! \nRyan Reeves has been a DFWMAS member since 2005; his last tank was 400 gallons\, the tank before that was 180 gallons\, and his first tank was a 35 gallons tank. He will share with us his husbandry techniques\, scary moments\, equipment\, fish room\, and a lot more! \nRSVP is required; Register in advance for this meeting:\nhttps://zoom.us/meeting/register/tJIqc-CqqDojHNZOqBpzNU3usWSdpncle8a6 \nAfter registering\, you will receive a confirmation email containing information about joining the meeting.
URL:https://dfwmas.org/calendar/dfwmas-2020-virtual-tank-tour/
ATTACH;FMTTYPE=image/jpeg:https://dfwmas.org/wp-content/uploads/2020/05/DFWMAS-Event-VIrtualTankTour.jpg
ORGANIZER;CN="DFWMAS":MAILTO:webmaster@dfwmas.org
END:VEVENT
END:VCALENDAR